BEGIN:VCALENDAR
VERSION:2.0
PRODID:-//Comox Valley Arts - ECPv6.15.20//NONSGML v1.0//EN
CALSCALE:GREGORIAN
METHOD:PUBLISH
X-WR-CALNAME:Comox Valley Arts
X-ORIGINAL-URL:https://comoxvalleyarts.com
X-WR-CALDESC:Events for Comox Valley Arts
REFRESH-INTERVAL;VALUE=DURATION:PT1H
X-Robots-Tag:noindex
X-PUBLISHED-TTL:PT1H
BEGIN:VTIMEZONE
TZID:America/Vancouver
BEGIN:DAYLIGHT
TZOFFSETFROM:-0800
TZOFFSETTO:-0700
TZNAME:PDT
DTSTART:20240310T100000
END:DAYLIGHT
BEGIN:STANDARD
TZOFFSETFROM:-0700
TZOFFSETTO:-0800
TZNAME:PST
DTSTART:20241103T090000
END:STANDARD
BEGIN:DAYLIGHT
TZOFFSETFROM:-0800
TZOFFSETTO:-0700
TZNAME:PDT
DTSTART:20250309T100000
END:DAYLIGHT
BEGIN:STANDARD
TZOFFSETFROM:-0700
TZOFFSETTO:-0800
TZNAME:PST
DTSTART:20251102T090000
END:STANDARD
BEGIN:DAYLIGHT
TZOFFSETFROM:-0800
TZOFFSETTO:-0700
TZNAME:PDT
DTSTART:20260308T100000
END:DAYLIGHT
BEGIN:STANDARD
TZOFFSETFROM:-0700
TZOFFSETTO:-0800
TZNAME:PST
DTSTART:20261101T090000
END:STANDARD
END:VTIMEZONE
BEGIN:VEVENT
DTSTART;TZID=America/Vancouver:20250221T100000
DTEND;TZID=America/Vancouver:20250816T160000
DTSTAMP:20260419T084830
CREATED:20250221T233058Z
LAST-MODIFIED:20250221T233058Z
UID:10000653-1740132000-1755360000@comoxvalleyarts.com
SUMMARY:Exhibit: Broken Promises
DESCRIPTION:The Courtenay and District Museum is pleased to present the travelling exhibition Broken Promises from the Nikkei National Museum & Cultural Centre. \nGrounded in research from Landscapes of Injustice – a 7 year multi-disciplinary\, multi-institutional\, community engaged project\, this exhibit explores the dispossession of Japanese Canadians in the 1940s. It illuminates the loss of home and the struggle for justice of one racially marginalized community. The story unfolds by following seven narrators that include Eikichi Kagetsu of Fanny Bay and Hiroshi Okuda from Cumberland. Learn about life for Japanese Canadians in Canada before war\, the administration of their lives during and after war ends\, and how legacies of dispossession continue to this day. \nThank you to the Landscapes of Injustice Partner Institutions and the Government of Canada. \nSchool classes are welcome to visit this exhibit. Please arrange a time by contacting the museum at 250-334-0686 ext 2\, or by emailing us. Provide the grade level and number of people in the group. The visit is included with your general admission fee. The Landscapes of Injustice website affiliated with the exhibit offers interactive resources and lessons for both elementary and secondary students. 
URL:https://comoxvalleyarts.com/community-calendar-event/exhibit-broken-promises/
LOCATION:the Courtenay and District Museum\, 207 4th St\, Courtenay\, BC\, COURTENAY\, BC\, V9N 1G7\, Canada
CATEGORIES:Exibits
ATTACH;FMTTYPE=image/jpeg:https://comoxvalleyarts.com/wp-content/uploads/2025/02/photo-promises2.jpg
END:VEVENT
BEGIN:VEVENT
DTSTART;TZID=America/Vancouver:20250527T100000
DTEND;TZID=America/Vancouver:20250621T160000
DTSTAMP:20260419T084830
CREATED:20250526T202843Z
LAST-MODIFIED:20250526T202843Z
UID:10000675-1748340000-1750521600@comoxvalleyarts.com
SUMMARY:Flourish: Pearl Ellis Gallery Summer Members Show
DESCRIPTION:The Pearl Ellis Gallery is delighted to present Flourish\, its annual Summer Members Show\, on display from May 27 to June 21. This vibrant exhibition celebrates the beauty and abundance of the season through the eyes of local artists\, with works that capture the warmth\, colour\, and energy of summer. \nOver 40 artists from across the Comox Valley will be featured\, showcasing a variety of styles and mediums including painting\, photography\, fibre arts\, and sculpture. From lush landscapes to vivid florals\, each piece invites viewers to reflect on the joys of summer and the natural world in full bloom. \nAn opening reception will be held on Saturday\, May 31\, from 1:00 to 3:00 pm. Visitors are invited to meet the artists\, explore the show\, and enjoy light refreshments in a relaxed and welcoming atmosphere.The Pearl is a non-profit community gallery\, located across from the Comox Mall at 1729 Comox Ave\, and is open Tuesday to Saturday from 10:00 am to 4:00 pm. Admission is always free\, and all artworks are available for purchase. \nFor more information\, visit pearlellisgallery.ca or follow them on Facebook and Instagram.
URL:https://comoxvalleyarts.com/community-calendar-event/flourish-pearl-ellis-gallery-summer-members-show/
LOCATION:Pearl Ellis Gallery\, 1729 Comox Ave\, Comox\, BC\, V9M 3M2\, Canada
CATEGORIES:Exhibitions
ATTACH;FMTTYPE=image/png:https://comoxvalleyarts.com/wp-content/uploads/2025/05/Flourish-Poster-3.png
END:VEVENT
END:VCALENDAR