BEGIN:VCALENDAR
VERSION:2.0
PRODID:-//Comox Valley Arts - ECPv6.15.20//NONSGML v1.0//EN
CALSCALE:GREGORIAN
METHOD:PUBLISH
X-ORIGINAL-URL:https://comoxvalleyarts.com
X-WR-CALDESC:Events for Comox Valley Arts
REFRESH-INTERVAL;VALUE=DURATION:PT1H
X-Robots-Tag:noindex
X-PUBLISHED-TTL:PT1H
BEGIN:VTIMEZONE
TZID:America/Vancouver
BEGIN:DAYLIGHT
TZOFFSETFROM:-0800
TZOFFSETTO:-0700
TZNAME:PDT
DTSTART:20240310T100000
END:DAYLIGHT
BEGIN:STANDARD
TZOFFSETFROM:-0700
TZOFFSETTO:-0800
TZNAME:PST
DTSTART:20241103T090000
END:STANDARD
BEGIN:DAYLIGHT
TZOFFSETFROM:-0800
TZOFFSETTO:-0700
TZNAME:PDT
DTSTART:20250309T100000
END:DAYLIGHT
BEGIN:STANDARD
TZOFFSETFROM:-0700
TZOFFSETTO:-0800
TZNAME:PST
DTSTART:20251102T090000
END:STANDARD
BEGIN:DAYLIGHT
TZOFFSETFROM:-0800
TZOFFSETTO:-0700
TZNAME:PDT
DTSTART:20260308T100000
END:DAYLIGHT
BEGIN:STANDARD
TZOFFSETFROM:-0700
TZOFFSETTO:-0800
TZNAME:PST
DTSTART:20261101T090000
END:STANDARD
END:VTIMEZONE
BEGIN:VEVENT
DTSTART;TZID=America/Vancouver:20250807T120000
DTEND;TZID=America/Vancouver:20250830T170000
DTSTAMP:20260419T051520
CREATED:20250731T201724Z
LAST-MODIFIED:20250731T201724Z
UID:10000696-1754568000-1756573200@comoxvalleyarts.com
SUMMARY:Jaques De Backer
DESCRIPTION:Jacques De Backer has filled the walls at Artful : The Gallery with colour and light through August 23. His iconic Cumberland alleyways\, farm scenes and stunning cow portraits are interspersed with his wood sculptures and memories from a life lived globally. Jacques De Backer has been painting and sculpting since he retired 30 years ago\, and he is a Comox Valley favourite\, with other artists\, and art collectors. The majority of the artworks are oil on canvas\, with a wide range of sizes and prices to choose from. From small oil on panel studies for $50 to 3’ X 4’ scenic oil on canvas panoramas well priced at $2000. Artist reception Saturday\, August 2\, 7 to 9pm at Artful : The Gallery. 526C Cumberland Rd in Courtenay. Gallery hours Weds-Sat 12-5pm.
URL:https://comoxvalleyarts.com/community-calendar-event/jaques-de-backer/2025-08-07/
LOCATION:Artful the Gallery\, 526 Cumberland Rd\, Courtenay\, BC\, V9N 2C7
CATEGORIES:Community Event,Exhibitions
ATTACH;FMTTYPE=image/jpeg:https://comoxvalleyarts.com/wp-content/uploads/2025/07/Artful-The-Gallery-Jacques-De-Backer-Artist-Reception-IN.jpg
END:VEVENT
BEGIN:VEVENT
DTSTART;TZID=America/Vancouver:20250808T120000
DTEND;TZID=America/Vancouver:20250831T170000
DTSTAMP:20260419T051520
CREATED:20250731T201724Z
LAST-MODIFIED:20250731T201724Z
UID:10000697-1754654400-1756659600@comoxvalleyarts.com
SUMMARY:Jaques De Backer
DESCRIPTION:Jacques De Backer has filled the walls at Artful : The Gallery with colour and light through August 23. His iconic Cumberland alleyways\, farm scenes and stunning cow portraits are interspersed with his wood sculptures and memories from a life lived globally. Jacques De Backer has been painting and sculpting since he retired 30 years ago\, and he is a Comox Valley favourite\, with other artists\, and art collectors. The majority of the artworks are oil on canvas\, with a wide range of sizes and prices to choose from. From small oil on panel studies for $50 to 3’ X 4’ scenic oil on canvas panoramas well priced at $2000. Artist reception Saturday\, August 2\, 7 to 9pm at Artful : The Gallery. 526C Cumberland Rd in Courtenay. Gallery hours Weds-Sat 12-5pm.
URL:https://comoxvalleyarts.com/community-calendar-event/jaques-de-backer/2025-08-08/
LOCATION:Artful the Gallery\, 526 Cumberland Rd\, Courtenay\, BC\, V9N 2C7
CATEGORIES:Community Event,Exhibitions
ATTACH;FMTTYPE=image/jpeg:https://comoxvalleyarts.com/wp-content/uploads/2025/07/Artful-The-Gallery-Jacques-De-Backer-Artist-Reception-IN.jpg
END:VEVENT
BEGIN:VEVENT
DTSTART;TZID=America/Vancouver:20250809T120000
DTEND;TZID=America/Vancouver:20250901T170000
DTSTAMP:20260419T051520
CREATED:20250731T201724Z
LAST-MODIFIED:20250731T201724Z
UID:10000698-1754740800-1756746000@comoxvalleyarts.com
SUMMARY:Jaques De Backer
DESCRIPTION:Jacques De Backer has filled the walls at Artful : The Gallery with colour and light through August 23. His iconic Cumberland alleyways\, farm scenes and stunning cow portraits are interspersed with his wood sculptures and memories from a life lived globally. Jacques De Backer has been painting and sculpting since he retired 30 years ago\, and he is a Comox Valley favourite\, with other artists\, and art collectors. The majority of the artworks are oil on canvas\, with a wide range of sizes and prices to choose from. From small oil on panel studies for $50 to 3’ X 4’ scenic oil on canvas panoramas well priced at $2000. Artist reception Saturday\, August 2\, 7 to 9pm at Artful : The Gallery. 526C Cumberland Rd in Courtenay. Gallery hours Weds-Sat 12-5pm.
URL:https://comoxvalleyarts.com/community-calendar-event/jaques-de-backer/2025-08-09/
LOCATION:Artful the Gallery\, 526 Cumberland Rd\, Courtenay\, BC\, V9N 2C7
CATEGORIES:Community Event,Exhibitions
ATTACH;FMTTYPE=image/jpeg:https://comoxvalleyarts.com/wp-content/uploads/2025/07/Artful-The-Gallery-Jacques-De-Backer-Artist-Reception-IN.jpg
END:VEVENT
BEGIN:VEVENT
DTSTART;TZID=America/Vancouver:20250813T120000
DTEND;TZID=America/Vancouver:20250905T170000
DTSTAMP:20260419T051520
CREATED:20250731T201724Z
LAST-MODIFIED:20250731T201724Z
UID:10000699-1755086400-1757091600@comoxvalleyarts.com
SUMMARY:Jaques De Backer
DESCRIPTION:Jacques De Backer has filled the walls at Artful : The Gallery with colour and light through August 23. His iconic Cumberland alleyways\, farm scenes and stunning cow portraits are interspersed with his wood sculptures and memories from a life lived globally. Jacques De Backer has been painting and sculpting since he retired 30 years ago\, and he is a Comox Valley favourite\, with other artists\, and art collectors. The majority of the artworks are oil on canvas\, with a wide range of sizes and prices to choose from. From small oil on panel studies for $50 to 3’ X 4’ scenic oil on canvas panoramas well priced at $2000. Artist reception Saturday\, August 2\, 7 to 9pm at Artful : The Gallery. 526C Cumberland Rd in Courtenay. Gallery hours Weds-Sat 12-5pm.
URL:https://comoxvalleyarts.com/community-calendar-event/jaques-de-backer/2025-08-13/
LOCATION:Artful the Gallery\, 526 Cumberland Rd\, Courtenay\, BC\, V9N 2C7
CATEGORIES:Community Event,Exhibitions
ATTACH;FMTTYPE=image/jpeg:https://comoxvalleyarts.com/wp-content/uploads/2025/07/Artful-The-Gallery-Jacques-De-Backer-Artist-Reception-IN.jpg
END:VEVENT
BEGIN:VEVENT
DTSTART;TZID=America/Vancouver:20250816T100000
DTEND;TZID=America/Vancouver:20250831T170000
DTSTAMP:20260419T051520
CREATED:20250817T020230Z
LAST-MODIFIED:20250817T020230Z
UID:10000706-1755338400-1756659600@comoxvalleyarts.com
SUMMARY:Faces of the Soul by Trish Malcomess
DESCRIPTION:Trish is showcasing a large collection of spontaneous paintings and drawings on linen\, vellum and paper in her studio gallery. The exhibition will be showing in Trish’s studio gallery at 1760 Dogwood Avenue\, Comox. until the end of August. \nOpen Studio: Wednesdays: 1-5pm \nStudio Visits by Appointment: Thursday – Monday \nContact Trish 250 702 1634
URL:https://comoxvalleyarts.com/community-calendar-event/faces-of-the-soul-by-trish-malcomess/
LOCATION:BC
ATTACH;FMTTYPE=image/jpeg:https://comoxvalleyarts.com/wp-content/uploads/2025/08/Faces-of-the-Soul_FB.jpg
END:VEVENT
BEGIN:VEVENT
DTSTART;TZID=America/Vancouver:20250822T100000
DTEND;TZID=America/Vancouver:20250913T160000
DTSTAMP:20260419T051520
CREATED:20250822T083351Z
LAST-MODIFIED:20250822T083351Z
UID:10000709-1755856800-1757779200@comoxvalleyarts.com
SUMMARY:Abundance: Fall Members Show
DESCRIPTION:The Pearl Ellis Gallery is hosting Abundance\, a members’ show that brings together artists from the Comox Valley and nearby communities. On display from August 19 to September 13\, the show includes paintings\, photography\, fibre art\, sculpture\, and more — each piece reflecting the creativity of the people who live here. \nJoin us for the opening reception on Saturday\, August 23\, from 1–3 pm to meet the artists\, enjoy some light refreshments\, and connect with others who love local art. Admission is free and everyone’s welcome.
URL:https://comoxvalleyarts.com/community-calendar-event/abundance-fall-members-show/
LOCATION:Pearl Ellis Gallery\, 1729 Comox Ave\, Comox\, BC\, V9M 3M2\, Canada
CATEGORIES:Exhibitions
ATTACH;FMTTYPE=image/png:https://comoxvalleyarts.com/wp-content/uploads/2025/08/01-Abundance-Sandwich-Board-21-x-27_20250811_213727_0000.png
END:VEVENT
BEGIN:VEVENT
DTSTART;TZID=America/Vancouver:20250830T130000
DTEND;TZID=America/Vancouver:20250830T150000
DTSTAMP:20260419T051520
CREATED:20250814T183838Z
LAST-MODIFIED:20250814T183838Z
UID:10000705-1756558800-1756566000@comoxvalleyarts.com
SUMMARY:Intercultural Weaving Project @ 4 two 5 Studio
DESCRIPTION:An artistic space where local artists gather weekly to creatively weave visual and narrative threads\, exploring and expressing intercultural stories through textiles and mixed media in a spirit of collaboration and shared learning. \nWhere & When\n\nVenue: 4 two 5 Studio\, Courtenay\nFrequency: Weekly open studio sessions\, drop‑in style\nDuration: Mondays and Saturdays\, August 25th – October 4th\, 1-3pm\n\n Why join in?\n\nExperiment collaboratively in a supportive\, low-pressure environment\nShare and learn from diverse materials\, techniques\, and cultural stories\nPartner with CV/Arts\, whose mission emphasizes equity\, inclusivity\, accessibility\, and community engaged artistic practice\n\nWhat’s provided\n\nAll weaving materials tools will be supplied. There is no need to bring materials unless they are specific to your project\nOptional: bring a memory\, poem\, personal story\, or cultural theme you’d like to visually\n\nWho’s welcome\n\nArtists of all experience levels and cultural backgrounds.\nWhether you’re into textiles\, visual arts\, craft\, story-based media\, or if you’re simply curious and creatively inclined\, you belong here.\n\n How to sign up\n\nPlease email: ameet@ameetart.com. Include:\n\n\nA brief description of your artistic practice and interest in the project.\nWhich weekly sessions you can attend and any accessibility accommodations you may require.
URL:https://comoxvalleyarts.com/community-calendar-event/intercultural-weaving-project-4-two-5-studio-2/
LOCATION:4 Two 5 Studio\, Courtenay\, BC\, Canada
CATEGORIES:Classes / Courses,Community Event
ATTACH;FMTTYPE=image/png:https://comoxvalleyarts.com/wp-content/uploads/2025/08/All-weaving-materials-such-andor-costs-of-some-and-tools-will-be-supplied-there-is-no-need-to-bring-materials-unless-they-are-specific-to-your-project-Optional-bring-a-memory-poem-personal-story-1.png
ORGANIZER;CN="Ameet Gill":MAILTO:ameet@ameetart.com
END:VEVENT
BEGIN:VEVENT
DTSTART;TZID=America/Vancouver:20250830T180000
DTEND;TZID=America/Vancouver:20250830T220000
DTSTAMP:20260419T051520
CREATED:20250728T044804Z
LAST-MODIFIED:20250728T044804Z
UID:10000690-1756576800-1756591200@comoxvalleyarts.com
SUMMARY:Dead Soft w/ Electric Brains w/ KCAR
DESCRIPTION:CVGBs presents:A triple of bill of summer cool\n\nfrom Vancouver/Gabriola Island\, Arts & Crafts Recording ArtistsDEAD SOFT\n\nfrom Powell River\, featuring member of Ladyhawk/Baptists/HaggathaELECTRIC BRAINS\n\nFrom Vancouver\, featuring member of Pink Mountaintops/Radio BerlinKCAR\n\nLicensed\, all ages welcome.\n* Monthly Roller Disco night at the CVCC will be in happening at the same time! Come see some great music\, and skate your face off!\n\nDEAD SOFTEmerging from British Columbia’s indie underground in the early 2010s\, Dead Soft is a grunge-punk band known for their fuzzed-out\, intense rock sound infused with melodic sensibility and introspective lyrics. Nathaniel Epp (vocals\, guitar) and Keeley Rochon (bass\, vocals) hail from the small northern town of Prince Rupert\, where their early musical influences included ’90s indie rock and artists like Elliott Smith and the Replacements. After moving south to Victoria\, they officially formed Dead Soft in 2011 before relocating to Vancouver. The band released a self-titled debut album in 2014 and built a reputation through relentless touring and a series of acclaimed EPs.\nIn 2018\, Dead Soft signed with the prominent Toronto label Arts + Crafts\, releasing the New Emotion EP and their widely visible second LP\, Big Blue (2019)\, which showcased a heavier fuzz-pop sound and themes of personal transformation. Recently\, the band wrapped up recording their third full-length album and are preparing for its upcoming release\, promising to deliver another powerful chapter in their evolving grunge-punk journey.https://www.instagram.com/deadsofties/https://www.facebook.com/deadsofties/https://deadsoft.bandcamp.com/https://www.youtube.com/@DeadSoftMusichttps://www.arts-crafts.ca/artists/dead-soft.htmlhttps://www.westerlyrecords.com/dead-soft\n\nELECTRIC BRAINSPower pop\, punk rock and roll from qathet BC! Anyone fortunate enough to catch the sold out Dead Bob show last year at the Waverly will recall the rawkus punk rock celebration that was the opening act Electric Brains (then called the Kicks) who worked the room into a frenzy. Electric Brains count among their members a certain Sean Hawryluk\, a crucial member of both Kelowna/Vancouver’s legendary Ladyhawk\, and then hardcore metal pathcutters Baptists.https://open.spotify.com/artist/6YHbb1RXqz1WvSsAhWQzET…https://www.instagram.com/electric__brains/\n\nKCARKCAR is Fiona\, Jenni and Lyndsay from Vancouver! KCAR play catchy\, art punky tunes\, they’re all tuff moms who enjoy long walks on the beach\, romantic dinners for three and ripping dinks!KCAR have played and toured in many bands over the years\, including Hard Drugs\, Radio Berlin\, Pink Mountaintops and Le Petit Mort.Find KCAR’s albums THREE and UP TOP on Bandcamp and streaming services.https://kcar.bandcamp.com/https://www.instagram.com/kcarband/
URL:https://comoxvalleyarts.com/community-calendar-event/dead-soft-w-electric-brains-w-kcar/
LOCATION:Comox Valley Curling Centre\, 4835 Headquarters Road\, Courtenay\, BC\, V9J1P2\, Canada
CATEGORIES:Community Event,Concert
ATTACH;FMTTYPE=image/jpeg:https://comoxvalleyarts.com/wp-content/uploads/2025/07/Dead-Soft-for-web.jpg
ORGANIZER;CN="CVGBs":MAILTO:keith@scratchrecords.com
END:VEVENT
BEGIN:VEVENT
DTSTART;TZID=America/Vancouver:20250830T180000
DTEND;TZID=America/Vancouver:20250830T220000
DTSTAMP:20260419T051520
CREATED:20250810T044904Z
LAST-MODIFIED:20250810T044904Z
UID:10000703-1756576800-1756591200@comoxvalleyarts.com
SUMMARY:CIRCLE⭕️COMPLEX — The Forgotten Dreams
DESCRIPTION:A LIVE Art & Music Collaboration by Nate Schmold & Josh Klassen \nJosh Klassen & Nate Schmold are lifelong creators whose work spans walls\, waves\, pixels\, and emotional wavelengths. Josh brings a grassroots spirit—cutting his teeth on boxcars and murals\, community projects and café shows—balancing fine art and poetry with hip-hop and hands-on hustle. Nate channels his energy through illustration\, painting\, music\, video games\, and live theatre\, often orbiting themes of absurdity\, inner states\, and the weirdness of being alive. \nJoined by a mutual love and respect for the same artforms\, Josh and Nate have begun to create work in unison. Through their music project CIRCLE⭕️COMPLEX\, they bend soundwaves through live improvisation into rhythmic\, hyperdimensional transmissions; and their collaborative mural paintings combine organically mutating shapes with a crisp cartoon-pop street art style. \nTogether\, their individual practices reflect a shared belief in art as a tool for abstract expression\, community connection\, and personal transformation—whether it’s spray paint on a door or a glitchy naked spaceman in a digital dream. \n— \nFor their show “The Forgotten Dreams”\, Nate & Josh bare their souls in an evening of live art-making and sound. The walls are lined with fragments from each artist’s past—paintings\, drawings\, and moments that spiral toward a shared portal-like center: a large blank canvas\, waiting to be activated. \nAs the night begins\, they take turns—one painting live\, the other performing a solo music set—trading roles and building something layered\, strange\, and alive. By the end\, the canvas becomes a shared artifact: a new piece grown from both of their histories. \nTo close the night\, they join forces as CIRCLE⭕️COMPLEX\, performing a final live music set to pull it all together. It’s a night of color\, rhythm\, improvisation\, and deep creative trust. Hypnotic\, a little chaotic\, and very human.
URL:https://comoxvalleyarts.com/community-calendar-event/circle%e2%ad%95%ef%b8%8fcomplex-the-forgotten-dreams/
LOCATION:Artful the Gallery\, 526 Cumberland Rd\, Courtenay\, BC\, V9N 2C7
CATEGORIES:Exibits
ATTACH;FMTTYPE=image/jpeg:https://comoxvalleyarts.com/wp-content/uploads/2025/08/Circle-Complex-Forgotten-Dreams-scaled.jpg
END:VEVENT
END:VCALENDAR