BEGIN:VCALENDAR
VERSION:2.0
PRODID:-//Comox Valley Arts - ECPv6.15.20//NONSGML v1.0//EN
CALSCALE:GREGORIAN
METHOD:PUBLISH
X-ORIGINAL-URL:https://comoxvalleyarts.com
X-WR-CALDESC:Events for Comox Valley Arts
REFRESH-INTERVAL;VALUE=DURATION:PT1H
X-Robots-Tag:noindex
X-PUBLISHED-TTL:PT1H
BEGIN:VTIMEZONE
TZID:America/Vancouver
BEGIN:DAYLIGHT
TZOFFSETFROM:-0800
TZOFFSETTO:-0700
TZNAME:PDT
DTSTART:20250309T100000
END:DAYLIGHT
BEGIN:STANDARD
TZOFFSETFROM:-0700
TZOFFSETTO:-0800
TZNAME:PST
DTSTART:20251102T090000
END:STANDARD
BEGIN:DAYLIGHT
TZOFFSETFROM:-0800
TZOFFSETTO:-0700
TZNAME:PDT
DTSTART:20260308T100000
END:DAYLIGHT
BEGIN:STANDARD
TZOFFSETFROM:-0700
TZOFFSETTO:-0800
TZNAME:PST
DTSTART:20261101T090000
END:STANDARD
BEGIN:DAYLIGHT
TZOFFSETFROM:-0800
TZOFFSETTO:-0700
TZNAME:PDT
DTSTART:20270314T100000
END:DAYLIGHT
BEGIN:STANDARD
TZOFFSETFROM:-0700
TZOFFSETTO:-0800
TZNAME:PST
DTSTART:20271107T090000
END:STANDARD
END:VTIMEZONE
BEGIN:VEVENT
DTSTART;TZID=America/Vancouver:20260322T080000
DTEND;TZID=America/Vancouver:20260322T170000
DTSTAMP:20260421T232426
CREATED:20260322T185644Z
LAST-MODIFIED:20260322T185644Z
UID:10000839-1774166400-1774198800@comoxvalleyarts.com
SUMMARY:Wading into Chalk Pastels
DESCRIPTION:Did you know that some of the most accomplished and famous artists in history used chalk pastels for sketching and finished works of art? Chalk pastels can be simple or complicated\, portable or cumbersome\, heavy-handed or light and airy. They marry well with other mediums and can express fine detail or swaths of raw colour. They are surface-sensitive and layer well when treated with care. Intrigued? Come and find out more and try your hand at a few simple pieces in this 4-day spring workshop that will have you set for some serious summer sketching!
URL:https://comoxvalleyarts.com/community-calendar-event/wading-into-chalk-pastels/
LOCATION:Comox Valley Sports Centre – Aquarium Room\, 3001 Vanier Drive\, Courtenay\, British Columbia\, Canada
CATEGORIES:Classes / Courses
ATTACH;FMTTYPE=image/jpeg:https://comoxvalleyarts.com/wp-content/uploads/2026/03/FBadv-Chalk.jpg
ORGANIZER;CN="Sandra Lamb":MAILTO:sandra@sandralamb.art
END:VEVENT
BEGIN:VEVENT
DTSTART;TZID=America/Vancouver:20260322T100000
DTEND;TZID=America/Vancouver:20260322T140000
DTSTAMP:20260421T232426
CREATED:20260304T035543Z
LAST-MODIFIED:20260304T035543Z
UID:10000836-1774173600-1774188000@comoxvalleyarts.com
SUMMARY:Unglued! Collage Creativity Gateway Workshop
DESCRIPTION:Creating with existing images can lower our inhibitions (which is great for those who want to be creative but don’t consider themselves ‘artists’) providing a playful experience of creating with curiousity and openness to the unexpected…just for fun! \nWe will use existing images\, scissors\, gluesticks and our imagination to complete several projects\, both independently and collaboratively. All levels welcome and all materials supplied. \nCollage is an art as old as paper…which is coming up on 2000 years. Collage is a great ‘gateway’ creative activity – it doesn’t require any technical proficiency beyond using a glue stick…the word collage comes from the french word ‘coller’ – (Koo-Lay) – to glue. \nSome of you have created scrapbooks or dream boards\, most commonly made by cutting out magazine images and then gluing them to a backing. This workshop uses those same techniques in a collaborative and playful way. \nWe will make three different collage projects. The first will be a collaborative collage poem\, using words. This will become the inspiration for our second project\, an individual  (and perhaps a little surreal!) landscape. Our final project is called Exquisite Corpse\, a collaborative art technique created by the surrealist artists in the 1920’s\, where participants add to the composition without seeing the previous contributions. The combined result is often delightful\, humorous and unexpected. \nUnglued is just for fun\, having some creative time with other people\, and learning a few techniques that you can use either by yourself\, or with your friends and family. \nI will have all the materials required\, just bring your enthusiasm. \nEmail: kristinacampbellart@gmail.com to register \n$75 workshop fee ($25 bring a friend discount)
URL:https://comoxvalleyarts.com/community-calendar-event/unglued-collage-creativity-gateway-workshop/
LOCATION:Artful the Gallery\, 526 Cumberland Rd\, Courtenay\, BC\, V9N 2C7
CATEGORIES:Classes / Courses
ATTACH;FMTTYPE=image/jpeg:https://comoxvalleyarts.com/wp-content/uploads/2026/03/Artful-Existence-Counsellor-Kristina-Campbell-Unglued.jpg
END:VEVENT
END:VCALENDAR