BEGIN:VCALENDAR
VERSION:2.0
PRODID:-//Comox Valley Arts - ECPv6.15.20//NONSGML v1.0//EN
CALSCALE:GREGORIAN
METHOD:PUBLISH
X-ORIGINAL-URL:https://comoxvalleyarts.com
X-WR-CALDESC:Events for Comox Valley Arts
REFRESH-INTERVAL;VALUE=DURATION:PT1H
X-Robots-Tag:noindex
X-PUBLISHED-TTL:PT1H
BEGIN:VTIMEZONE
TZID:America/Vancouver
BEGIN:DAYLIGHT
TZOFFSETFROM:-0800
TZOFFSETTO:-0700
TZNAME:PDT
DTSTART:20240310T100000
END:DAYLIGHT
BEGIN:STANDARD
TZOFFSETFROM:-0700
TZOFFSETTO:-0800
TZNAME:PST
DTSTART:20241103T090000
END:STANDARD
BEGIN:DAYLIGHT
TZOFFSETFROM:-0800
TZOFFSETTO:-0700
TZNAME:PDT
DTSTART:20250309T100000
END:DAYLIGHT
BEGIN:STANDARD
TZOFFSETFROM:-0700
TZOFFSETTO:-0800
TZNAME:PST
DTSTART:20251102T090000
END:STANDARD
BEGIN:DAYLIGHT
TZOFFSETFROM:-0800
TZOFFSETTO:-0700
TZNAME:PDT
DTSTART:20260308T100000
END:DAYLIGHT
BEGIN:STANDARD
TZOFFSETFROM:-0700
TZOFFSETTO:-0800
TZNAME:PST
DTSTART:20261101T090000
END:STANDARD
END:VTIMEZONE
BEGIN:VEVENT
DTSTART;TZID=America/Vancouver:20250203T190000
DTEND;TZID=America/Vancouver:20250203T210000
DTSTAMP:20260422T044517
CREATED:20250118T012133Z
LAST-MODIFIED:20250118T012133Z
UID:10000643-1738609200-1738616400@comoxvalleyarts.com
SUMMARY:Artful : The Poets
DESCRIPTION:Join us for the February 3rd start to the 2025 Artful : The Poets Series. Comox Valley’s Carol Neufeld is our feature poet. Sign up at the door for the open mic (5 mins per poet) following Neufeld’s presentation\, hosted by Big Dada Ed Varney. 7-9pm $10 or pwyc.
URL:https://comoxvalleyarts.com/community-calendar-event/artful-the-poets-4/
LOCATION:Artful the Gallery\, 526 Cumberland Rd\, Courtenay\, BC\, V9N 2C7
CATEGORIES:Community Event
ATTACH;FMTTYPE=image/jpeg:https://comoxvalleyarts.com/wp-content/uploads/2025/01/Artful-The-Poets-Carol-Neufeld-IN.jpg
END:VEVENT
BEGIN:VEVENT
DTSTART;TZID=America/Vancouver:20250217T190000
DTEND;TZID=America/Vancouver:20250217T210000
DTSTAMP:20260422T044517
CREATED:20250202T022813Z
LAST-MODIFIED:20250202T022813Z
UID:10000648-1739818800-1739826000@comoxvalleyarts.com
SUMMARY:Comox Valley Songwriters Circle
DESCRIPTION:Each month singer/songwriters  gather to share their tunes at Artful : The Gallery. The range of abilities\, experience and genres welcomes musicians who appreciate the challenge (and the deadline!) of creating a new song each month. \nThe circle provides a place to be inspired\, seek feedback and to be\nable to hear what other creatives are working on. Most musicians bring along their\nguitars or ukuleles\, although some sing a capella or use the in-house piano for accompaniment. \nHost Ashley Sykes’s love of connecting with other artists provides motivation to write\nand perform in the supportive group. The circle does not provide instruction; it provides an opportunity to perform your song\, and to be impacted by others doing the same. \nAttendance is by donation ($10 or pwyc). The group welcomes newcomers\, and the\nonly criteria is that the songs performed are original.
URL:https://comoxvalleyarts.com/community-calendar-event/comox-valley-songwriters-circle-7/
LOCATION:Artful the Gallery\, 526 Cumberland Rd\, Courtenay\, BC\, V9N 2C7
CATEGORIES:Community Event
ATTACH;FMTTYPE=image/jpeg:https://comoxvalleyarts.com/wp-content/uploads/2025/02/Artful-The-Gallery-Comox-Valley-Songwriters-Circle-Host-Ashley-Sykes.jpg
END:VEVENT
BEGIN:VEVENT
DTSTART;TZID=America/Vancouver:20250222T190000
DTEND;TZID=America/Vancouver:20250222T210000
DTSTAMP:20260422T044517
CREATED:20250214T035448Z
LAST-MODIFIED:20250214T035448Z
UID:10000649-1740250800-1740258000@comoxvalleyarts.com
SUMMARY:'Scapes
DESCRIPTION:…land\, sea\, garden\, urban\, rural… \n4 Comox Valley artists bring the world to the gallery! \nAlora Griffin\, Channing Holland\, Trisha Milne and Roger Vermeulen interpret their visions of the environment with water and colour. Both framed and unframed works will be for sale.​ \nJoin us for the Artist Reception Saturday\, Feb 22nd\, 7-9pm
URL:https://comoxvalleyarts.com/community-calendar-event/scapes/
LOCATION:Artful the Gallery\, 526 Cumberland Rd\, Courtenay\, BC\, V9N 2C7
CATEGORIES:Community Event
ATTACH;FMTTYPE=image/jpeg:https://comoxvalleyarts.com/wp-content/uploads/2025/02/Artful-The-Gallery-‘Scapes-Channing-Holland-Alora-Griffin-Roger-Vermeulen-Trisha-Milne-Artist-Reception-IN.jpg
END:VEVENT
END:VCALENDAR