BEGIN:VCALENDAR
VERSION:2.0
PRODID:-//Comox Valley Arts - ECPv6.15.20//NONSGML v1.0//EN
CALSCALE:GREGORIAN
METHOD:PUBLISH
X-ORIGINAL-URL:https://comoxvalleyarts.com
X-WR-CALDESC:Events for Comox Valley Arts
REFRESH-INTERVAL;VALUE=DURATION:PT1H
X-Robots-Tag:noindex
X-PUBLISHED-TTL:PT1H
BEGIN:VTIMEZONE
TZID:America/Vancouver
BEGIN:DAYLIGHT
TZOFFSETFROM:-0800
TZOFFSETTO:-0700
TZNAME:PDT
DTSTART:20240310T100000
END:DAYLIGHT
BEGIN:STANDARD
TZOFFSETFROM:-0700
TZOFFSETTO:-0800
TZNAME:PST
DTSTART:20241103T090000
END:STANDARD
BEGIN:DAYLIGHT
TZOFFSETFROM:-0800
TZOFFSETTO:-0700
TZNAME:PDT
DTSTART:20250309T100000
END:DAYLIGHT
BEGIN:STANDARD
TZOFFSETFROM:-0700
TZOFFSETTO:-0800
TZNAME:PST
DTSTART:20251102T090000
END:STANDARD
BEGIN:DAYLIGHT
TZOFFSETFROM:-0800
TZOFFSETTO:-0700
TZNAME:PDT
DTSTART:20260308T100000
END:DAYLIGHT
BEGIN:STANDARD
TZOFFSETFROM:-0700
TZOFFSETTO:-0800
TZNAME:PST
DTSTART:20261101T090000
END:STANDARD
END:VTIMEZONE
BEGIN:VEVENT
DTSTART;TZID=America/Vancouver:20250625T120000
DTEND;TZID=America/Vancouver:20250719T170000
DTSTAMP:20260421T175740
CREATED:20250628T212307Z
LAST-MODIFIED:20250628T212643Z
UID:10000682-1750852800-1752944400@comoxvalleyarts.com
SUMMARY:Zeke Ziner : Freedom and Discipline
DESCRIPTION:Joe Ziner presents a retrospective legacy of Graphics and Sculpture from the oeuvre of his father Zeke Ziner. The collection includes works from the late 1930s through to the 21st century and collectively provide a fantastic overview of mid-century modern sculpture and art. Lovingly curated by Joe Ziner\, on display are examples of the various print series created in collaboration between Zeke and Joe. Most notable are  the relief prints created using edge grain cedar plates\, utilizing the linear depression of the spring wood with a gramophone needle to create the completely unique effect. Exhibition runs through July 19.
URL:https://comoxvalleyarts.com/community-calendar-event/zeke-ziner-freedom-and-discipline/
LOCATION:Artful the Gallery\, 526 Cumberland Rd\, Courtenay\, BC\, V9N 2C7
CATEGORIES:Community Event,Exhibitions
ATTACH;FMTTYPE=image/jpeg:https://comoxvalleyarts.com/wp-content/uploads/2025/06/Artful-The-Gallery-Zeke-Ziner-Freedom-and-Discipline-July-2025.jpg
END:VEVENT
BEGIN:VEVENT
DTSTART;TZID=America/Vancouver:20250701T110000
DTEND;TZID=America/Vancouver:20250701T140000
DTSTAMP:20260421T175740
CREATED:20250530T221212Z
LAST-MODIFIED:20250530T221212Z
UID:10000677-1751367600-1751378400@comoxvalleyarts.com
SUMMARY:Canada Day Open House at The Courtenay and District Museum
DESCRIPTION:The Courtenay and District Museum will celebrate Canada Day with an open house from 11:00 am to 2:00 pm on Tuesday\, July 1st. Guests are welcome to enjoy live music by Alan Jossul\, enter to win a door prize\, and try their hand at kids’ crafts. \nThere will also be a special one-day-only 50% off sale for the book Step Into Wilderness: A Pictorial History of Outdoor Exploration in and around the Comox Valley (limit of 3 per person). \nWhile you’re at the museum loving the air-conditioned comfort\, take a few moments to check out the second-floor exhibit Broken Promises\, a travelling exhibit from the Nikkei National Museum & Cultural Centre.
URL:https://comoxvalleyarts.com/community-calendar-event/canada-day-open-house-at-the-courtenay-and-district-museum/
LOCATION:the Courtenay and District Museum\, 207 4th St\, Courtenay\, BC\, COURTENAY\, BC\, V9N 1G7\, Canada
CATEGORIES:Community Event
ATTACH;FMTTYPE=image/jpeg:https://comoxvalleyarts.com/wp-content/uploads/2025/05/photo-twitter-canada.jpg
END:VEVENT
BEGIN:VEVENT
DTSTART;TZID=America/Vancouver:20250704T190000
DTEND;TZID=America/Vancouver:20250704T203000
DTSTAMP:20260421T175740
CREATED:20250627T185321Z
LAST-MODIFIED:20250627T190146Z
UID:10000681-1751655600-1751661000@comoxvalleyarts.com
SUMMARY:The Boy in the Treehouse
DESCRIPTION:Reconciliation Theatre invites audiences of all ages to experience The Boy in the Treehouse\, a touching and humorous coming-of-age story by award-winning Anishinaabe playwright Drew Hayden Taylor. This enchanting show is perfect for families\, blending laughter\, discovery\, and the universal journey of finding where we belong. The production team features many of the families of Reconciliation Theatre Society\, as generations of artists come together to share cultural practice and produce The Boy in the Treehou
URL:https://comoxvalleyarts.com/community-calendar-event/the-boy-in-the-treehouse/
LOCATION:Sid Williams Theatre\, 442 Cliffe Avenue\, Courtenay\, BC\, V9N 2J2\, Canada
CATEGORIES:Community Event
ATTACH;FMTTYPE=image/png:https://comoxvalleyarts.com/wp-content/uploads/2025/06/Screen-Shot-2025-06-27-at-11.54.30-AM-2.png
END:VEVENT
BEGIN:VEVENT
DTSTART;TZID=America/Vancouver:20250705T000000
DTEND;TZID=America/Vancouver:20250712T235959
DTSTAMP:20260421T175740
CREATED:20250530T220117Z
LAST-MODIFIED:20250530T220117Z
UID:10000676-1751673600-1752364799@comoxvalleyarts.com
SUMMARY:WALL THINGS ART
DESCRIPTION:July 5 – July 12th 2025\, WALL THINGS ART will be featuring a week of mural painting across West Courtenay featuring local artists culminating in a wrap up event hosted by Gladstone Brewing Co.  The wrap up party will include interactive art events\, a freewall unveiling and Live DJ’s on Saturday July 12. Check out wallthingsart.com for more details.
URL:https://comoxvalleyarts.com/community-calendar-event/wall-things-art/
LOCATION:BC
CATEGORIES:Community Event
ATTACH;FMTTYPE=image/png:https://comoxvalleyarts.com/wp-content/uploads/2025/05/WTAlogo.png
END:VEVENT
BEGIN:VEVENT
DTSTART;TZID=America/Vancouver:20250731T120000
DTEND;TZID=America/Vancouver:20250823T170000
DTSTAMP:20260421T175740
CREATED:20250731T201724Z
LAST-MODIFIED:20250731T201724Z
UID:10000691-1753963200-1755968400@comoxvalleyarts.com
SUMMARY:Jaques De Backer
DESCRIPTION:Jacques De Backer has filled the walls at Artful : The Gallery with colour and light through August 23. His iconic Cumberland alleyways\, farm scenes and stunning cow portraits are interspersed with his wood sculptures and memories from a life lived globally. Jacques De Backer has been painting and sculpting since he retired 30 years ago\, and he is a Comox Valley favourite\, with other artists\, and art collectors. The majority of the artworks are oil on canvas\, with a wide range of sizes and prices to choose from. From small oil on panel studies for $50 to 3’ X 4’ scenic oil on canvas panoramas well priced at $2000. Artist reception Saturday\, August 2\, 7 to 9pm at Artful : The Gallery. 526C Cumberland Rd in Courtenay. Gallery hours Weds-Sat 12-5pm.
URL:https://comoxvalleyarts.com/community-calendar-event/jaques-de-backer/2025-07-31/
LOCATION:Artful the Gallery\, 526 Cumberland Rd\, Courtenay\, BC\, V9N 2C7
CATEGORIES:Community Event,Exhibitions
ATTACH;FMTTYPE=image/jpeg:https://comoxvalleyarts.com/wp-content/uploads/2025/07/Artful-The-Gallery-Jacques-De-Backer-Artist-Reception-IN.jpg
END:VEVENT
END:VCALENDAR