BEGIN:VCALENDAR
VERSION:2.0
PRODID:-//Comox Valley Arts - ECPv6.15.20//NONSGML v1.0//EN
CALSCALE:GREGORIAN
METHOD:PUBLISH
X-WR-CALNAME:Comox Valley Arts
X-ORIGINAL-URL:https://comoxvalleyarts.com
X-WR-CALDESC:Events for Comox Valley Arts
REFRESH-INTERVAL;VALUE=DURATION:PT1H
X-Robots-Tag:noindex
X-PUBLISHED-TTL:PT1H
BEGIN:VTIMEZONE
TZID:America/Vancouver
BEGIN:DAYLIGHT
TZOFFSETFROM:-0800
TZOFFSETTO:-0700
TZNAME:PDT
DTSTART:20240310T100000
END:DAYLIGHT
BEGIN:STANDARD
TZOFFSETFROM:-0700
TZOFFSETTO:-0800
TZNAME:PST
DTSTART:20241103T090000
END:STANDARD
BEGIN:DAYLIGHT
TZOFFSETFROM:-0800
TZOFFSETTO:-0700
TZNAME:PDT
DTSTART:20250309T100000
END:DAYLIGHT
BEGIN:STANDARD
TZOFFSETFROM:-0700
TZOFFSETTO:-0800
TZNAME:PST
DTSTART:20251102T090000
END:STANDARD
BEGIN:DAYLIGHT
TZOFFSETFROM:-0800
TZOFFSETTO:-0700
TZNAME:PDT
DTSTART:20260308T100000
END:DAYLIGHT
BEGIN:STANDARD
TZOFFSETFROM:-0700
TZOFFSETTO:-0800
TZNAME:PST
DTSTART:20261101T090000
END:STANDARD
END:VTIMEZONE
BEGIN:VEVENT
DTSTART;TZID=America/Vancouver:20251201T190000
DTEND;TZID=America/Vancouver:20251201T210000
DTSTAMP:20260421T090131
CREATED:20251118T171221Z
LAST-MODIFIED:20251118T171221Z
UID:10000792-1764615600-1764622800@comoxvalleyarts.com
SUMMARY:Artful : The Poets featuring Pam Stewart
DESCRIPTION:  \n  \nJoin host Steven J. Thompson as he welcomes our feature poet Pam Stewart from Victoria\, BC. Pam Stewart writes about change and self-acceptance\, the beauty and the not so.  She’s a performer\, facilitator and event producer.  A former Victoria slam champion\, she got her start in spoken word before publishing a book of personal essays\, I Really Thought It Would Be Easier Than This\, in 2019.  She represented Victoria at the Canadian Festival of Spoken Word four times\, twice at the Canadian Individual Poetry Slam\, was once a frequent contributor to Elephant Journal\, and was the first and only Riot Grrrls Poet in Residence.  To see her perform live is to feel it. \nStewart’s feature spot will be followed by an open mic. Sign up at the door for the open mic\, 5 minutes max per poet\, $10 or pwyc.
URL:https://comoxvalleyarts.com/community-calendar-event/artful-the-poets-featuring-pam-stewart/
LOCATION:Artful the Gallery\, 526 Cumberland Rd\, Courtenay\, BC\, V9N 2C7
CATEGORIES:Community Event
ATTACH;FMTTYPE=image/jpeg:https://comoxvalleyarts.com/wp-content/uploads/2025/11/Artful-The-Poets-Feature-Poet-Pam-Stewart-with-Host-Steven-J.-Thompson-Dec-1-2025-IN.jpg
END:VEVENT
BEGIN:VEVENT
DTSTART;TZID=America/Vancouver:20251213T103000
DTEND;TZID=America/Vancouver:20251213T113000
DTSTAMP:20260421T090131
CREATED:20251114T183559Z
LAST-MODIFIED:20251114T183559Z
UID:10000788-1765621800-1765625400@comoxvalleyarts.com
SUMMARY:Solstice Singalong
DESCRIPTION:Celebrate the magic of the season with a joyful community singalong! Join Teacher Zoë for a cozy 45-minute Music Together® session filled with songs\, movement\, and musical play to welcome wintertime. Whether you’re a returning family or new to our classes\, this is a chance to reconnect\, make music together\, and share in the warmth of community as we head into the new year. \nThese singalongs are also a sneak peek of what’s to come—Music Together® classes are returning in January at our new central location in Downtown Courtenay!  \nEach singalong event will be geared towards families with children 0-7\, but older children are welcome too. \n👉 Register by emailing thesqueakywheelcreative@gmail.com
URL:https://comoxvalleyarts.com/community-calendar-event/solstice-singalong/
LOCATION:St. Georges United Church\, 505 6th Street\, Courtenay\, BC\, V9N 1M5\, Canada
CATEGORIES:Community Event
ATTACH;FMTTYPE=image/jpeg:https://comoxvalleyarts.com/wp-content/uploads/2025/11/Solstice-Singalongs-Poster-Instagram-Post-45.jpg
ORGANIZER;CN="Squeaky Wheel Creative":MAILTO:thesqueakywheelcreative@gmail.com
END:VEVENT
BEGIN:VEVENT
DTSTART;TZID=America/Vancouver:20251220T103000
DTEND;TZID=America/Vancouver:20251220T113000
DTSTAMP:20260421T090131
CREATED:20251114T184129Z
LAST-MODIFIED:20251114T184129Z
UID:10000789-1766226600-1766230200@comoxvalleyarts.com
SUMMARY:Solstice Singalong
DESCRIPTION:Celebrate the magic of the season with a joyful community singalong! Join Teacher Zoë for a cozy 45-minute Music Together® session filled with songs\, movement\, and musical play to welcome wintertime. Whether you’re a returning family or new to our classes\, this is a chance to reconnect\, make music together\, and share in the warmth of community as we head into the new year. \nThese singalongs are also a sneak peek of what’s to come—Music Together® classes are returning in January at our new central location in Downtown Courtenay! \nEach singalong event will be geared towards families with children 0-7\, but older children are welcome too. \n👉 Register by emailing thesqueakywheelcreative@gmail.com
URL:https://comoxvalleyarts.com/community-calendar-event/solstice-singalong-2/
LOCATION:St. Georges United Church\, 505 6th Street\, Courtenay\, BC\, V9N 1M5\, Canada
CATEGORIES:Community Event
ATTACH;FMTTYPE=image/jpeg:https://comoxvalleyarts.com/wp-content/uploads/2025/11/Solstice-Singalongs-Poster-Instagram-Post-45-1.jpg
ORGANIZER;CN="Squeaky Wheel Creative":MAILTO:thesqueakywheelcreative@gmail.com
END:VEVENT
END:VCALENDAR