BEGIN:VCALENDAR
VERSION:2.0
PRODID:-//Comox Valley Arts - ECPv6.15.20//NONSGML v1.0//EN
CALSCALE:GREGORIAN
METHOD:PUBLISH
X-ORIGINAL-URL:https://comoxvalleyarts.com
X-WR-CALDESC:Events for Comox Valley Arts
REFRESH-INTERVAL;VALUE=DURATION:PT1H
X-Robots-Tag:noindex
X-PUBLISHED-TTL:PT1H
BEGIN:VTIMEZONE
TZID:America/Vancouver
BEGIN:DAYLIGHT
TZOFFSETFROM:-0800
TZOFFSETTO:-0700
TZNAME:PDT
DTSTART:20250309T100000
END:DAYLIGHT
BEGIN:STANDARD
TZOFFSETFROM:-0700
TZOFFSETTO:-0800
TZNAME:PST
DTSTART:20251102T090000
END:STANDARD
BEGIN:DAYLIGHT
TZOFFSETFROM:-0800
TZOFFSETTO:-0700
TZNAME:PDT
DTSTART:20260308T100000
END:DAYLIGHT
BEGIN:STANDARD
TZOFFSETFROM:-0700
TZOFFSETTO:-0800
TZNAME:PST
DTSTART:20261101T090000
END:STANDARD
BEGIN:DAYLIGHT
TZOFFSETFROM:-0800
TZOFFSETTO:-0700
TZNAME:PDT
DTSTART:20270314T100000
END:DAYLIGHT
BEGIN:STANDARD
TZOFFSETFROM:-0700
TZOFFSETTO:-0800
TZNAME:PST
DTSTART:20271107T090000
END:STANDARD
END:VTIMEZONE
BEGIN:VEVENT
DTSTART;TZID=America/Vancouver:20260302T190000
DTEND;TZID=America/Vancouver:20260302T210000
DTSTAMP:20260421T034053
CREATED:20260217T002353Z
LAST-MODIFIED:20260217T002353Z
UID:10000826-1772478000-1772485200@comoxvalleyarts.com
SUMMARY:Artful : The Poets Featuring Landon Norris
DESCRIPTION:Artful : The Poets welcomes Landon Norris as feature poet\, with host Diana Kolpak\, on March 2\, 7-9pm. \nLandon Arora Norris is a visual artist\, actor\, and poet\, bringing an abundance of energy and colour to the stage\, with vibrant brush strokes and line-work\, wordplay\, quirky subject matter\, and eye-catching composition\, leaving the ear a myriad of details to explore and become lost in. Landon mixes her personal experiences\, interests in games and pop culture\, along with her affinity for literary exploration and play.\n\nLandon earned a BFA in Drawing & Painting from OCAD University\, while working steadily as a professional on-screen and voice actor. Her engagement in the artistic world quickly segued into music and poetry\, latching onto linguistic intricacies\, like anagrams\, palindromes\, and spoonerisms. She enjoys the carefree exploration involved in abstraction\, and cartooning\, while having a deep-rooted understanding of realism\, light and shadow. With this amalgamation of artistic expression\, Landon crosses the lines between free-spirited childlike poetry and highly technical lyricism and flow.\n\nLandon drove out from Toronto to Courtenay four years ago and planted roots on the island rather quickly\, enjoying the pace of life\, and the immediate connection to nature and the breathtaking outdoors this country is rich with. When she’s not glued to her creation station\, playing games of the board or video variety\, or out partaking in community events\, you’re likely to catch Landon slinging ice cream at Blue Spruce during the weekdays.
URL:https://comoxvalleyarts.com/community-calendar-event/artful-the-poets-featuring-landon-norris/
LOCATION:Artful the Gallery\, 526 Cumberland Rd\, Courtenay\, BC\, V9N 2C7
CATEGORIES:Community Event
ATTACH;FMTTYPE=image/jpeg:https://comoxvalleyarts.com/wp-content/uploads/2026/02/Artful-The-Poets-Landon-Norris-IN.jpg
END:VEVENT
BEGIN:VEVENT
DTSTART;TZID=America/Vancouver:20260307T190000
DTEND;TZID=America/Vancouver:20260307T210000
DTSTAMP:20260421T034053
CREATED:20260226T012757Z
LAST-MODIFIED:20260311T211244Z
UID:10000831-1772910000-1772917200@comoxvalleyarts.com
SUMMARY:Poetry Reading and Book Launch
DESCRIPTION:Join host Kelly Madden at Artful : The Gallery for the poetry reading and book launch of Ed Varney and Dan Kirk. Guest poet Kristina Campbell will also join the reading for an entertaining trio of Comox Valley Poets.\n\nEd Varney was inspired to become a poet during his second year of University and has followed that idea over the past 60 years. Along the way he has learned printing technologies\, publishing strategies\, book binding skills\, graphics and fine arts\, arranged exhibitions\, edited anthologies\, founded small poetry magazines and published over 20 books and chapbooks of his own poetry. Varney reports that poetry continues to engage him and new poems emerge on sheets of paper in his studio. Varney’s latest chapbook is ‘Crossroads’\, published by the Poem Factory. It follows the path that thought takes as it expresses itself in words and how those words morph into poetry.\n\nDan Kirk has spent extended periods of time over the past 20 years reading American poets William Stafford\, Robert Bly and Emily Dickenson\, Spanish poets Antonio Machado and Juan Ramon Jimenez\, Swedish poet Tomas Transtromer and Norwegian poet Olav H. Hauge. They have informed and inspired Kirk’s writing in an ongoing conversation where he has responded to\, argued with and extended their words and ideas and brought them into his world. This volume ’Still Talking’ represents a distillation of his ongoing dialogue with these poets and others who evoke a response. Kirk founded and ran the Red Tree Poetry Series and co-produced the first two Cascadia Poetry Festivals in Cumberland\, B.C. with Adelia MacWilliam and Ed Varney. Reading in locations around Vancouver Island and Kelowna\, Daniel has enjoyed the varied audiences for poetry in these communities.\n\n\nKristina Campbell is an artist and therapist who has lived in the Comox Valley since 2017. In 2020\, Campbell established Artful : The Gallery to provide a home base for her multi-media art practice which includes painting\, poetry and experimental film. Campbell has reached back through her Danish ancestry to bring the Nordic gods to her mythopoetic sensibility as an artist. Campbell’s style is an expression of her belief that using mythological imagery can inspire and lead to the creation of new narratives. Campbell’s fascination with mythology\, symbols\, memory and dream imagery is a unifying theme throughout her work.\n\n\nKelly Madden is a Vancouver Island poet whose writing is raw\, unflinching\, and deeply rooted in place. She speaks for the overlooked: those lost to the overdose crisis\, those unhoused\, and the ecosystems we continue to erase.  Her work has appeared in numerous publications supported by the League of Canadian Poets\, Reckoning\, SAPPzine\, Island Writer’s Magazine\, CV2\, The Poet\, Drift\, Drunk Monkeys and elsewhere. She is currently working on her second collection of poetry.
URL:https://comoxvalleyarts.com/community-calendar-event/poetry-reading-and-book-launch-2/
LOCATION:Artful the Gallery\, 526 Cumberland Rd\, Courtenay\, BC\, V9N 2C7
CATEGORIES:Community Event
ATTACH;FMTTYPE=image/jpeg:https://comoxvalleyarts.com/wp-content/uploads/2026/02/Artful-The-Gallery-Poetry-Reading-Ed-Varney-Kristina-Campbell-Dan-Kirk-Kelly-Madden-IN.jpg
END:VEVENT
BEGIN:VEVENT
DTSTART;TZID=America/Vancouver:20260321T110000
DTEND;TZID=America/Vancouver:20260321T140000
DTSTAMP:20260421T034053
CREATED:20260303T230523Z
LAST-MODIFIED:20260313T214323Z
UID:10000834-1774090800-1774101600@comoxvalleyarts.com
SUMMARY:Spring Fling and Easter Magic 2026
DESCRIPTION:The Courtenay Museum invites you to their annual “Spring Fling and Easter Magic” event on Saturday\, March 21st\, from 11 am to 2 pm. Admission is by donation. \nThis will be a fun-filled\, action-packed three-hour event. \nThe ever-popular petting zoo provided by Barnyard Party Animals gives folks a chance to meet ducks\, geese\, bunnies\, chicks\, guinea pigs\, and hedgehogs. \nWe have invited a special guest this year\, “Magician Donald Dunphy\,” who will be performing amazing magic shows. Audience participation is a must. There will be two magic shows\, one at 11:45 and the other at 12:45. Each show will be different. \nYou will have the opportunity to visit with volunteers and a rescue bird from MARS Wildlife Rescue Centre\, where you can learn about their amazing wildlife rescues. \nA couple of games are planned for the Fling\, including a scavenger hunt and guess how many treats contest. People can also enter to win door prizes. Don’t forget to bring your craft skills to make a cute Easter craft to take home with you. \nThe Elasmosaur mascot will be making an appearance for photo opportunities and handing out delicious chocolate treats.
URL:https://comoxvalleyarts.com/community-calendar-event/spring-fling-and-easter-magic-2026/
LOCATION:the Courtenay and District Museum\, 207 4th St\, Courtenay\, BC\, COURTENAY\, BC\, V9N 1G7\, Canada
CATEGORIES:Community Event
ATTACH;FMTTYPE=image/jpeg:https://comoxvalleyarts.com/wp-content/uploads/2026/03/Spring-Fling-Poster-1.jpg
END:VEVENT
END:VCALENDAR