BEGIN:VCALENDAR
VERSION:2.0
PRODID:-//Comox Valley Arts - ECPv6.15.20//NONSGML v1.0//EN
CALSCALE:GREGORIAN
METHOD:PUBLISH
X-ORIGINAL-URL:https://comoxvalleyarts.com
X-WR-CALDESC:Events for Comox Valley Arts
REFRESH-INTERVAL;VALUE=DURATION:PT1H
X-Robots-Tag:noindex
X-PUBLISHED-TTL:PT1H
BEGIN:VTIMEZONE
TZID:America/Vancouver
BEGIN:DAYLIGHT
TZOFFSETFROM:-0800
TZOFFSETTO:-0700
TZNAME:PDT
DTSTART:20240310T100000
END:DAYLIGHT
BEGIN:STANDARD
TZOFFSETFROM:-0700
TZOFFSETTO:-0800
TZNAME:PST
DTSTART:20241103T090000
END:STANDARD
BEGIN:DAYLIGHT
TZOFFSETFROM:-0800
TZOFFSETTO:-0700
TZNAME:PDT
DTSTART:20250309T100000
END:DAYLIGHT
BEGIN:STANDARD
TZOFFSETFROM:-0700
TZOFFSETTO:-0800
TZNAME:PST
DTSTART:20251102T090000
END:STANDARD
BEGIN:DAYLIGHT
TZOFFSETFROM:-0800
TZOFFSETTO:-0700
TZNAME:PDT
DTSTART:20260308T100000
END:DAYLIGHT
BEGIN:STANDARD
TZOFFSETFROM:-0700
TZOFFSETTO:-0800
TZNAME:PST
DTSTART:20261101T090000
END:STANDARD
END:VTIMEZONE
BEGIN:VEVENT
DTSTART;TZID=America/Vancouver:20250303T190000
DTEND;TZID=America/Vancouver:20250303T210000
DTSTAMP:20260422T044958
CREATED:20250214T041220Z
LAST-MODIFIED:20250214T041220Z
UID:10000652-1741028400-1741035600@comoxvalleyarts.com
SUMMARY:Artful : The Poets
DESCRIPTION:Feature Poet Cynthia Woodman starts off the evening with her reading\, followed by our Open Mic hosted by Diana Kolpak. Sign up at the door for your 5min spot! For more info about Cynthia visit the events page on our website. \n  \n 
URL:https://comoxvalleyarts.com/community-calendar-event/artful-the-poets-5/
LOCATION:Artful the Gallery\, 526 Cumberland Rd\, Courtenay\, BC\, V9N 2C7
CATEGORIES:Community Event
ATTACH;FMTTYPE=image/jpeg:https://comoxvalleyarts.com/wp-content/uploads/2025/02/Artful-The-Poets-Cynthia-Woodman-IN.jpg
END:VEVENT
END:VCALENDAR