BEGIN:VCALENDAR
VERSION:2.0
PRODID:-//Comox Valley Arts - ECPv6.15.20//NONSGML v1.0//EN
CALSCALE:GREGORIAN
METHOD:PUBLISH
X-WR-CALNAME:Comox Valley Arts
X-ORIGINAL-URL:https://comoxvalleyarts.com
X-WR-CALDESC:Events for Comox Valley Arts
REFRESH-INTERVAL;VALUE=DURATION:PT1H
X-Robots-Tag:noindex
X-PUBLISHED-TTL:PT1H
BEGIN:VTIMEZONE
TZID:America/Vancouver
BEGIN:DAYLIGHT
TZOFFSETFROM:-0800
TZOFFSETTO:-0700
TZNAME:PDT
DTSTART:20240310T100000
END:DAYLIGHT
BEGIN:STANDARD
TZOFFSETFROM:-0700
TZOFFSETTO:-0800
TZNAME:PST
DTSTART:20241103T090000
END:STANDARD
BEGIN:DAYLIGHT
TZOFFSETFROM:-0800
TZOFFSETTO:-0700
TZNAME:PDT
DTSTART:20250309T100000
END:DAYLIGHT
BEGIN:STANDARD
TZOFFSETFROM:-0700
TZOFFSETTO:-0800
TZNAME:PST
DTSTART:20251102T090000
END:STANDARD
BEGIN:DAYLIGHT
TZOFFSETFROM:-0800
TZOFFSETTO:-0700
TZNAME:PDT
DTSTART:20260308T100000
END:DAYLIGHT
BEGIN:STANDARD
TZOFFSETFROM:-0700
TZOFFSETTO:-0800
TZNAME:PST
DTSTART:20261101T090000
END:STANDARD
END:VTIMEZONE
BEGIN:VEVENT
DTSTART;TZID=America/Vancouver:20250402T190000
DTEND;TZID=America/Vancouver:20250402T210000
DTSTAMP:20260422T025941
CREATED:20250320T225628Z
LAST-MODIFIED:20250320T225628Z
UID:10000662-1743620400-1743627600@comoxvalleyarts.com
SUMMARY:Wingnut Comedy Open Mic
DESCRIPTION:WINGNUT open mic comedy night for local and visiting comedians. Want to try doing standup comedy for the first time? Want to practice your jokes/sets? Check this open mic out! April 2\, 16\, May 7\, 21. At High Tide Pub in Downtown Courtenay. Featuring headliners. Door prizes. Comic sign up at 7pm\, show starts at 7:30pm. $5.00 cover charge (used to pay headliners).
URL:https://comoxvalleyarts.com/community-calendar-event/wingnut-comedy-open-mic/
LOCATION:HighTidePub\, 268 Fifth Street\, Courtenay\, BC\, V9N 1J6\, Canada
CATEGORIES:Community Event
ATTACH;FMTTYPE=image/png:https://comoxvalleyarts.com/wp-content/uploads/2025/03/WingnutOpenMicHigh.png
ORGANIZER;CN="Syd Bosel":MAILTO:disciplinedeb@yahoo.com
END:VEVENT
END:VCALENDAR