BEGIN:VCALENDAR
VERSION:2.0
PRODID:-//Comox Valley Arts - ECPv6.15.20//NONSGML v1.0//EN
CALSCALE:GREGORIAN
METHOD:PUBLISH
X-ORIGINAL-URL:https://comoxvalleyarts.com
X-WR-CALDESC:Events for Comox Valley Arts
REFRESH-INTERVAL;VALUE=DURATION:PT1H
X-Robots-Tag:noindex
X-PUBLISHED-TTL:PT1H
BEGIN:VTIMEZONE
TZID:America/Vancouver
BEGIN:DAYLIGHT
TZOFFSETFROM:-0800
TZOFFSETTO:-0700
TZNAME:PDT
DTSTART:20240310T100000
END:DAYLIGHT
BEGIN:STANDARD
TZOFFSETFROM:-0700
TZOFFSETTO:-0800
TZNAME:PST
DTSTART:20241103T090000
END:STANDARD
BEGIN:DAYLIGHT
TZOFFSETFROM:-0800
TZOFFSETTO:-0700
TZNAME:PDT
DTSTART:20250309T100000
END:DAYLIGHT
BEGIN:STANDARD
TZOFFSETFROM:-0700
TZOFFSETTO:-0800
TZNAME:PST
DTSTART:20251102T090000
END:STANDARD
BEGIN:DAYLIGHT
TZOFFSETFROM:-0800
TZOFFSETTO:-0700
TZNAME:PDT
DTSTART:20260308T100000
END:DAYLIGHT
BEGIN:STANDARD
TZOFFSETFROM:-0700
TZOFFSETTO:-0800
TZNAME:PST
DTSTART:20261101T090000
END:STANDARD
END:VTIMEZONE
BEGIN:VEVENT
DTSTART;TZID=America/Vancouver:20250412T143000
DTEND;TZID=America/Vancouver:20250412T163000
DTSTAMP:20260422T011446
CREATED:20250320T233811Z
LAST-MODIFIED:20250320T233859Z
UID:10000664-1744468200-1744475400@comoxvalleyarts.com
SUMMARY:Pop-Up Poetry Booth
DESCRIPTION:Come celebrate National Poetry Month by visiting a Pop-Up Poetry Booth at Gladstone Brewing Company on Saturday\, April 12th from 2:30 – 4:30\, where you can meet with a poet\, have a chat\, and they’ll write you a brand new poem to take home…for free!
URL:https://comoxvalleyarts.com/community-calendar-event/pop-up-poetry-booth/
LOCATION:Gladstone Brewing Company\, 244 4th Street\, Courtenay\, BC\, Canada
CATEGORIES:Community Event
ATTACH;FMTTYPE=image/png:https://comoxvalleyarts.com/wp-content/uploads/2025/03/Gladstone-Pop-Up-Social-media-png.png
ORGANIZER;CN="Diana Kolpak":MAILTO:dlkolpak@gmail.com
END:VEVENT
END:VCALENDAR