BEGIN:VCALENDAR
VERSION:2.0
PRODID:-//Comox Valley Arts - ECPv6.15.20//NONSGML v1.0//EN
CALSCALE:GREGORIAN
METHOD:PUBLISH
X-WR-CALNAME:Comox Valley Arts
X-ORIGINAL-URL:https://comoxvalleyarts.com
X-WR-CALDESC:Events for Comox Valley Arts
REFRESH-INTERVAL;VALUE=DURATION:PT1H
X-Robots-Tag:noindex
X-PUBLISHED-TTL:PT1H
BEGIN:VTIMEZONE
TZID:America/Vancouver
BEGIN:DAYLIGHT
TZOFFSETFROM:-0800
TZOFFSETTO:-0700
TZNAME:PDT
DTSTART:20240310T100000
END:DAYLIGHT
BEGIN:STANDARD
TZOFFSETFROM:-0700
TZOFFSETTO:-0800
TZNAME:PST
DTSTART:20241103T090000
END:STANDARD
BEGIN:DAYLIGHT
TZOFFSETFROM:-0800
TZOFFSETTO:-0700
TZNAME:PDT
DTSTART:20250309T100000
END:DAYLIGHT
BEGIN:STANDARD
TZOFFSETFROM:-0700
TZOFFSETTO:-0800
TZNAME:PST
DTSTART:20251102T090000
END:STANDARD
BEGIN:DAYLIGHT
TZOFFSETFROM:-0800
TZOFFSETTO:-0700
TZNAME:PDT
DTSTART:20260308T100000
END:DAYLIGHT
BEGIN:STANDARD
TZOFFSETFROM:-0700
TZOFFSETTO:-0800
TZNAME:PST
DTSTART:20261101T090000
END:STANDARD
END:VTIMEZONE
BEGIN:VEVENT
DTSTART;TZID=America/Vancouver:20250625T120000
DTEND;TZID=America/Vancouver:20250719T170000
DTSTAMP:20260421T193952
CREATED:20250628T212307Z
LAST-MODIFIED:20250628T212643Z
UID:10000682-1750852800-1752944400@comoxvalleyarts.com
SUMMARY:Zeke Ziner : Freedom and Discipline
DESCRIPTION:Joe Ziner presents a retrospective legacy of Graphics and Sculpture from the oeuvre of his father Zeke Ziner. The collection includes works from the late 1930s through to the 21st century and collectively provide a fantastic overview of mid-century modern sculpture and art. Lovingly curated by Joe Ziner\, on display are examples of the various print series created in collaboration between Zeke and Joe. Most notable are  the relief prints created using edge grain cedar plates\, utilizing the linear depression of the spring wood with a gramophone needle to create the completely unique effect. Exhibition runs through July 19.
URL:https://comoxvalleyarts.com/community-calendar-event/zeke-ziner-freedom-and-discipline/
LOCATION:Artful the Gallery\, 526 Cumberland Rd\, Courtenay\, BC\, V9N 2C7
CATEGORIES:Community Event,Exhibitions
ATTACH;FMTTYPE=image/jpeg:https://comoxvalleyarts.com/wp-content/uploads/2025/06/Artful-The-Gallery-Zeke-Ziner-Freedom-and-Discipline-July-2025.jpg
END:VEVENT
BEGIN:VEVENT
DTSTART;TZID=America/Vancouver:20250704T190000
DTEND;TZID=America/Vancouver:20250704T203000
DTSTAMP:20260421T193952
CREATED:20250627T185321Z
LAST-MODIFIED:20250627T190146Z
UID:10000681-1751655600-1751661000@comoxvalleyarts.com
SUMMARY:The Boy in the Treehouse
DESCRIPTION:Reconciliation Theatre invites audiences of all ages to experience The Boy in the Treehouse\, a touching and humorous coming-of-age story by award-winning Anishinaabe playwright Drew Hayden Taylor. This enchanting show is perfect for families\, blending laughter\, discovery\, and the universal journey of finding where we belong. The production team features many of the families of Reconciliation Theatre Society\, as generations of artists come together to share cultural practice and produce The Boy in the Treehou
URL:https://comoxvalleyarts.com/community-calendar-event/the-boy-in-the-treehouse/
LOCATION:Sid Williams Theatre\, 442 Cliffe Avenue\, Courtenay\, BC\, V9N 2J2\, Canada
CATEGORIES:Community Event
ATTACH;FMTTYPE=image/png:https://comoxvalleyarts.com/wp-content/uploads/2025/06/Screen-Shot-2025-06-27-at-11.54.30-AM-2.png
END:VEVENT
END:VCALENDAR