BEGIN:VCALENDAR
VERSION:2.0
PRODID:-//Comox Valley Arts - ECPv6.15.20//NONSGML v1.0//EN
CALSCALE:GREGORIAN
METHOD:PUBLISH
X-ORIGINAL-URL:https://comoxvalleyarts.com
X-WR-CALDESC:Events for Comox Valley Arts
REFRESH-INTERVAL;VALUE=DURATION:PT1H
X-Robots-Tag:noindex
X-PUBLISHED-TTL:PT1H
BEGIN:VTIMEZONE
TZID:America/Vancouver
BEGIN:DAYLIGHT
TZOFFSETFROM:-0800
TZOFFSETTO:-0700
TZNAME:PDT
DTSTART:20240310T100000
END:DAYLIGHT
BEGIN:STANDARD
TZOFFSETFROM:-0700
TZOFFSETTO:-0800
TZNAME:PST
DTSTART:20241103T090000
END:STANDARD
BEGIN:DAYLIGHT
TZOFFSETFROM:-0800
TZOFFSETTO:-0700
TZNAME:PDT
DTSTART:20250309T100000
END:DAYLIGHT
BEGIN:STANDARD
TZOFFSETFROM:-0700
TZOFFSETTO:-0800
TZNAME:PST
DTSTART:20251102T090000
END:STANDARD
BEGIN:DAYLIGHT
TZOFFSETFROM:-0800
TZOFFSETTO:-0700
TZNAME:PDT
DTSTART:20260308T100000
END:DAYLIGHT
BEGIN:STANDARD
TZOFFSETFROM:-0700
TZOFFSETTO:-0800
TZNAME:PST
DTSTART:20261101T090000
END:STANDARD
END:VTIMEZONE
BEGIN:VEVENT
DTSTART;TZID=America/Vancouver:20251006T190000
DTEND;TZID=America/Vancouver:20251006T210000
DTSTAMP:20260421T143554
CREATED:20250925T002527Z
LAST-MODIFIED:20250926T214857Z
UID:10000717-1759777200-1759784400@comoxvalleyarts.com
SUMMARY:Artful : The Poets
DESCRIPTION:Join host Dan Kirk on October 6th with our feature poet Lorraine Martinuik. Feature poet followed by open mic\, sign up at the door (5 mins each spot). \nLorraine Martinuik’s poetry and experimental prose has appeared in literary journals such as Island\, The Capilano Review\, The Normal School and Truck\, as well as several anthologies such as Kitchen Talk and Drift (edited by Ed Varney and Dan Kirk). In 1989\, she was awarded a Canada Council grant\, for an experimental fiction project that dealt in part with narrative structure. \nMartinuik was born in northern Alberta; she grew up in B.C.’s Peace River district\, and later in the Fraser Valley. She holds a Bachelor of Fine Arts from Emily Carr Institute of Art and Design\, a B.A. in English from the University of British Columbia\, and an MFA in poetry from the University of New Orleans. Her MFA thesis\, The Language of Trees was awarded the Cassin Prize for Poetry. \nShe has been based on Denman Island since 1980\, when she bought a piece of raw land and built the studio cottage where she now lives and works.
URL:https://comoxvalleyarts.com/community-calendar-event/artful-the-poets-8/
LOCATION:Artful the Gallery\, 526 Cumberland Rd\, Courtenay\, BC\, V9N 2C7
CATEGORIES:Community Event
ATTACH;FMTTYPE=image/jpeg:https://comoxvalleyarts.com/wp-content/uploads/2025/09/Artful-The-Poets-Lorraine-Martinuik-IN.jpg
END:VEVENT
END:VCALENDAR