BEGIN:VCALENDAR
VERSION:2.0
PRODID:-//Comox Valley Arts - ECPv6.15.20//NONSGML v1.0//EN
CALSCALE:GREGORIAN
METHOD:PUBLISH
X-ORIGINAL-URL:https://comoxvalleyarts.com
X-WR-CALDESC:Events for Comox Valley Arts
REFRESH-INTERVAL;VALUE=DURATION:PT1H
X-Robots-Tag:noindex
X-PUBLISHED-TTL:PT1H
BEGIN:VTIMEZONE
TZID:America/Vancouver
BEGIN:DAYLIGHT
TZOFFSETFROM:-0800
TZOFFSETTO:-0700
TZNAME:PDT
DTSTART:20240310T100000
END:DAYLIGHT
BEGIN:STANDARD
TZOFFSETFROM:-0700
TZOFFSETTO:-0800
TZNAME:PST
DTSTART:20241103T090000
END:STANDARD
BEGIN:DAYLIGHT
TZOFFSETFROM:-0800
TZOFFSETTO:-0700
TZNAME:PDT
DTSTART:20250309T100000
END:DAYLIGHT
BEGIN:STANDARD
TZOFFSETFROM:-0700
TZOFFSETTO:-0800
TZNAME:PST
DTSTART:20251102T090000
END:STANDARD
BEGIN:DAYLIGHT
TZOFFSETFROM:-0800
TZOFFSETTO:-0700
TZNAME:PDT
DTSTART:20260308T100000
END:DAYLIGHT
BEGIN:STANDARD
TZOFFSETFROM:-0700
TZOFFSETTO:-0800
TZNAME:PST
DTSTART:20261101T090000
END:STANDARD
END:VTIMEZONE
BEGIN:VEVENT
DTSTART;TZID=America/Vancouver:20251026T110000
DTEND;TZID=America/Vancouver:20251026T160000
DTSTAMP:20260421T143434
CREATED:20251008T041938Z
LAST-MODIFIED:20251008T042048Z
UID:10000719-1761476400-1761494400@comoxvalleyarts.com
SUMMARY:The 5th Annual Comox Valley Record Show
DESCRIPTION:Vinyl lovers\, collectors\, and music enthusiasts\, mark your calendars! The 5th Annual Comox Valley Record Show is set to groove its way back into town on Sunday\, October 26\, 2025\, from 11:00 AM to 4:00 PM at the Comox Valley Curling Centre\, located at 4835 Headquarters Road\, Courtenay. \nThis beloved event brings together dealers from across Vancouver Island and the Mainland\, offering thousands of records spanning every genre imaginable—from classic rock and jazz to punk\, soul\, and beyond. But it’s not just vinyl: attendees will also find posters\, books\, CDs\, tapes\, and other music memorabilia to explore. \nWhat to Expect: \nA spacious venue filled with vibrant energy and rare finds \nFood and drinks available on-site\, including \nElevator access and plenty of free parking \nFriendly vendors and fellow music fans ready to share stories and swap treasures \nTips for Attendees: \nPrefer a quieter browsing experience? Arrive later in the day (2 to 4 PM) \nBring cash—while vendors increasingly accept digital payments\, vinyl culture still loves the old-school paper vibe. \nCome prepared to dig deep—hidden gems await! \nWhether you’re a seasoned collector or just starting your vinyl journey\, the Comox Valley Record Show is a can’t-miss celebration of music\, nostalgia\, and community. As the organizers say\, “It’s like Christmas—it comes but once a year!” \nAdmission is still only $2 and kids under 12 are free. Lots of parking and the kitchen and Extra End Lounge will be open\, not to mention curling to watch alongside the record show.
URL:https://comoxvalleyarts.com/community-calendar-event/the/
LOCATION:Comox Valley Curling Centre\, 4835 Headquarters Road\, Courtenay\, BC\, V9J1P2\, Canada
CATEGORIES:Community Event,Exhibitions
ATTACH;FMTTYPE=image/jpeg:https://comoxvalleyarts.com/wp-content/uploads/2025/10/courtney_record_poster_2025_reduced.jpg
ORGANIZER;CN="CVGBs":MAILTO:keith@scratchrecords.com
END:VEVENT
END:VCALENDAR