BEGIN:VCALENDAR
VERSION:2.0
PRODID:-//Comox Valley Arts - ECPv6.15.20//NONSGML v1.0//EN
CALSCALE:GREGORIAN
METHOD:PUBLISH
X-ORIGINAL-URL:https://comoxvalleyarts.com
X-WR-CALDESC:Events for Comox Valley Arts
REFRESH-INTERVAL;VALUE=DURATION:PT1H
X-Robots-Tag:noindex
X-PUBLISHED-TTL:PT1H
BEGIN:VTIMEZONE
TZID:America/Vancouver
BEGIN:DAYLIGHT
TZOFFSETFROM:-0800
TZOFFSETTO:-0700
TZNAME:PDT
DTSTART:20250309T100000
END:DAYLIGHT
BEGIN:STANDARD
TZOFFSETFROM:-0700
TZOFFSETTO:-0800
TZNAME:PST
DTSTART:20251102T090000
END:STANDARD
BEGIN:DAYLIGHT
TZOFFSETFROM:-0800
TZOFFSETTO:-0700
TZNAME:PDT
DTSTART:20260308T100000
END:DAYLIGHT
BEGIN:STANDARD
TZOFFSETFROM:-0700
TZOFFSETTO:-0800
TZNAME:PST
DTSTART:20261101T090000
END:STANDARD
BEGIN:DAYLIGHT
TZOFFSETFROM:-0800
TZOFFSETTO:-0700
TZNAME:PDT
DTSTART:20270314T100000
END:DAYLIGHT
BEGIN:STANDARD
TZOFFSETFROM:-0700
TZOFFSETTO:-0800
TZNAME:PST
DTSTART:20271107T090000
END:STANDARD
END:VTIMEZONE
BEGIN:VEVENT
DTSTART;TZID=America/Vancouver:20260202T190000
DTEND;TZID=America/Vancouver:20260202T210000
DTSTAMP:20260421T072110
CREATED:20260119T080021Z
LAST-MODIFIED:20260119T080021Z
UID:10000813-1770058800-1770066000@comoxvalleyarts.com
SUMMARY:Artful : The Poets
DESCRIPTION:Join host Steven J. Thompson as he welcomes our feature poet Jeremy Loveday. Jeremy’s feature spot will be followed by an open mic. Sign up at the door for the open mic\, 5 minutes max per poet\, $10 or pwyc. \nJeremy Loveday is a poet\, arts educator\, and community builder from Victoria\, BC\, on the territory of the lәk’wәŋәn People. He founded and served as the longtime artistic director of the Victorious Voices youth poetry festival. Jeremy’s dynamic performances earned him the title of Victoria Poetry Slam Grand Champion three times. In 2020\, he was honoured with the Zaccheus Jackson Nyce Memorial Award. His work has been published in reputable platforms such as Huffington Post\, CV2\, Funicular Magazine\, National Observer\, CBC\, Claudia\, and Best Canadian Poetry 2023. \nLoveday’s performance to celebrate his Book Release: \nMaybe the Starling\, the debut full-length collection from award-winning poet and dynamic spoken word performer Jeremy Loveday\, invites us to explore the intersections of crisis and care\, grief and joy—a testament to poetry’s power to ignite change and nurture the human spirit. \nIn a world marked by inequity and climate crisis\, Maybe the Starling is a poetic response to uncertainty\, confronting urgent questions while offering both salve and spark. Rooted in a deep love for the land and an abiding wonder for nature’s abundance\, these poems illuminate the ways we belong to each other and the world around us. \nFrom mosh pits and Elvis impersonators to the quiet patience of growing food\, these poems refuse to turn away from contradiction—they embrace it. Maybe the Starling offers both comfort and challenge\, reminding us that poetry is a powerful call to wonder\, to witness\, and to action.
URL:https://comoxvalleyarts.com/community-calendar-event/artful-the-poets-10/
LOCATION:Artful the Gallery\, 526 Cumberland Rd\, Courtenay\, BC\, V9N 2C7
CATEGORIES:Community Event
ATTACH;FMTTYPE=image/jpeg:https://comoxvalleyarts.com/wp-content/uploads/2026/01/Artful-The-Poets-Jeremy-Loveday-Steven-J.-Thompson-IN.jpg
END:VEVENT
END:VCALENDAR