BEGIN:VCALENDAR
VERSION:2.0
PRODID:-//Comox Valley Arts - ECPv6.15.20//NONSGML v1.0//EN
CALSCALE:GREGORIAN
METHOD:PUBLISH
X-WR-CALNAME:Comox Valley Arts
X-ORIGINAL-URL:https://comoxvalleyarts.com
X-WR-CALDESC:Events for Comox Valley Arts
REFRESH-INTERVAL;VALUE=DURATION:PT1H
X-Robots-Tag:noindex
X-PUBLISHED-TTL:PT1H
BEGIN:VTIMEZONE
TZID:America/Vancouver
BEGIN:DAYLIGHT
TZOFFSETFROM:-0800
TZOFFSETTO:-0700
TZNAME:PDT
DTSTART:20240310T100000
END:DAYLIGHT
BEGIN:STANDARD
TZOFFSETFROM:-0700
TZOFFSETTO:-0800
TZNAME:PST
DTSTART:20241103T090000
END:STANDARD
BEGIN:DAYLIGHT
TZOFFSETFROM:-0800
TZOFFSETTO:-0700
TZNAME:PDT
DTSTART:20250309T100000
END:DAYLIGHT
BEGIN:STANDARD
TZOFFSETFROM:-0700
TZOFFSETTO:-0800
TZNAME:PST
DTSTART:20251102T090000
END:STANDARD
BEGIN:DAYLIGHT
TZOFFSETFROM:-0800
TZOFFSETTO:-0700
TZNAME:PDT
DTSTART:20260308T100000
END:DAYLIGHT
BEGIN:STANDARD
TZOFFSETFROM:-0700
TZOFFSETTO:-0800
TZNAME:PST
DTSTART:20261101T090000
END:STANDARD
END:VTIMEZONE
BEGIN:VEVENT
DTSTART;TZID=America/Vancouver:20250401T100000
DTEND;TZID=America/Vancouver:20250430T170000
DTSTAMP:20260422T044747
CREATED:20250325T092128Z
LAST-MODIFIED:20250327T041408Z
UID:10000666-1743501600-1746032400@comoxvalleyarts.com
SUMMARY:Waterways: The Comox Valley Gallery Hop
DESCRIPTION:This April\, nine galleries across the Comox Valley are coming together to celebrate the beauty and power of water through Waterways: The Comox Valley Gallery Hop. Each gallery will present a unique water-themed exhibition\, offering visitors an opportunity to experience a diverse range of artistic interpretations. \nThe goal of Waterways is to encourage both locals and visitors to explore the incredible art spaces in the Comox Valley. Many residents have never visited these galleries or have only been to one or two. This event is a chance to discover the unique character of each gallery\, connect with local artists\, and find original artwork—often at very affordable prices. All galleries are offering free admission\, so visitors can enjoy the diverse exhibitions without any cost. It’s the perfect opportunity to explore the vibrant local art scene! \nParticipating galleries include Artful: The Gallery\, ARTWRX Studio + Gallery\, Comox Valley Art Gallery\, I-Hos Gallery\, Pearl Ellis Gallery\, Studio 211\, The Gallery @ Weird Church\, The Worthy Room\, and YQQ + CVA Arts and Culture. Visitors are encouraged to explore them all\, enjoying a variety of art forms and perspectives from talented local artists. \nTo make the experience even more engaging\, guests can collect stamps on a Waterways stamp card as they visit each gallery. Once their tour is complete\, they can fill out their information and drop the card off at any participating gallery to be entered to win a wide array of incredible art prizes generously donated by local artists—the more galleries they visit\, the more chances they have to win! \nExhibitions will run throughout April\, with individual galleries hosting their own opening receptions and events. For details on each gallery’s show\, hours\, and reception dates\, visit pearlellisgallery.ca/waterways. \nDon’t miss this opportunity to celebrate local art and the natural beauty of water—mark your calendar and start planning your gallery hop!
URL:https://comoxvalleyarts.com/community-calendar-event/waterways-the-comox-valley-gallery-hop/
LOCATION:BC
CATEGORIES:Exhibitions
ATTACH;FMTTYPE=image/png:https://comoxvalleyarts.com/wp-content/uploads/2025/03/04-WATERWAYS-Flyer-8.5X11.png
END:VEVENT
END:VCALENDAR