BEGIN:VCALENDAR
VERSION:2.0
PRODID:-//Comox Valley Arts - ECPv6.15.20//NONSGML v1.0//EN
CALSCALE:GREGORIAN
METHOD:PUBLISH
X-ORIGINAL-URL:https://comoxvalleyarts.com
X-WR-CALDESC:Events for Comox Valley Arts
REFRESH-INTERVAL;VALUE=DURATION:PT1H
X-Robots-Tag:noindex
X-PUBLISHED-TTL:PT1H
BEGIN:VTIMEZONE
TZID:America/Vancouver
BEGIN:DAYLIGHT
TZOFFSETFROM:-0800
TZOFFSETTO:-0700
TZNAME:PDT
DTSTART:20240310T100000
END:DAYLIGHT
BEGIN:STANDARD
TZOFFSETFROM:-0700
TZOFFSETTO:-0800
TZNAME:PST
DTSTART:20241103T090000
END:STANDARD
BEGIN:DAYLIGHT
TZOFFSETFROM:-0800
TZOFFSETTO:-0700
TZNAME:PDT
DTSTART:20250309T100000
END:DAYLIGHT
BEGIN:STANDARD
TZOFFSETFROM:-0700
TZOFFSETTO:-0800
TZNAME:PST
DTSTART:20251102T090000
END:STANDARD
BEGIN:DAYLIGHT
TZOFFSETFROM:-0800
TZOFFSETTO:-0700
TZNAME:PDT
DTSTART:20260308T100000
END:DAYLIGHT
BEGIN:STANDARD
TZOFFSETFROM:-0700
TZOFFSETTO:-0800
TZNAME:PST
DTSTART:20261101T090000
END:STANDARD
END:VTIMEZONE
BEGIN:VEVENT
DTSTART;TZID=America/Vancouver:20250722T100000
DTEND;TZID=America/Vancouver:20250816T160000
DTSTAMP:20260422T030643
CREATED:20250726T073812Z
LAST-MODIFIED:20250726T073812Z
UID:10000689-1753178400-1755360000@comoxvalleyarts.com
SUMMARY:Chromophobia
DESCRIPTION:Pearl Ellis Gallery is excited to announce Chromophobia\, an art exhibit by Queer for Queer Artists’ Collective. \nThis exhibition is a vibrant celebration of queer identity\, creativity\, and self-expression. Featuring over 60 pieces of art in various styles\, the exhibition uses bold colours and designs to challenge societal pressures to conform. It emphasizes the importance of individuality\, love\, and acceptance while fostering a sense of community and pride.
URL:https://comoxvalleyarts.com/community-calendar-event/chromophobia/
LOCATION:Pearl Ellis Gallery\, 1729 Comox Ave\, Comox\, BC\, V9M 3M2\, Canada
CATEGORIES:Exhibitions
ATTACH;FMTTYPE=image/png:https://comoxvalleyarts.com/wp-content/uploads/2025/07/1-Chromophobia-Instagram-Post-4_5.png
END:VEVENT
END:VCALENDAR