BEGIN:VCALENDAR
VERSION:2.0
PRODID:-//Comox Valley Arts - ECPv6.15.20//NONSGML v1.0//EN
CALSCALE:GREGORIAN
METHOD:PUBLISH
X-WR-CALNAME:Comox Valley Arts
X-ORIGINAL-URL:https://comoxvalleyarts.com
X-WR-CALDESC:Events for Comox Valley Arts
REFRESH-INTERVAL;VALUE=DURATION:PT1H
X-Robots-Tag:noindex
X-PUBLISHED-TTL:PT1H
BEGIN:VTIMEZONE
TZID:America/Vancouver
BEGIN:DAYLIGHT
TZOFFSETFROM:-0800
TZOFFSETTO:-0700
TZNAME:PDT
DTSTART:20230312T100000
END:DAYLIGHT
BEGIN:STANDARD
TZOFFSETFROM:-0700
TZOFFSETTO:-0800
TZNAME:PST
DTSTART:20231105T090000
END:STANDARD
BEGIN:DAYLIGHT
TZOFFSETFROM:-0800
TZOFFSETTO:-0700
TZNAME:PDT
DTSTART:20240310T100000
END:DAYLIGHT
BEGIN:STANDARD
TZOFFSETFROM:-0700
TZOFFSETTO:-0800
TZNAME:PST
DTSTART:20241103T090000
END:STANDARD
BEGIN:DAYLIGHT
TZOFFSETFROM:-0800
TZOFFSETTO:-0700
TZNAME:PDT
DTSTART:20250309T100000
END:DAYLIGHT
BEGIN:STANDARD
TZOFFSETFROM:-0700
TZOFFSETTO:-0800
TZNAME:PST
DTSTART:20251102T090000
END:STANDARD
END:VTIMEZONE
BEGIN:VEVENT
DTSTART;TZID=America/Vancouver:20240427T000000
DTEND;TZID=America/Vancouver:20240427T235959
DTSTAMP:20260422T215803
CREATED:20240419T192950Z
LAST-MODIFIED:20240419T192950Z
UID:10000071-1714176000-1714262399@comoxvalleyarts.com
SUMMARY:Art Event open studios
DESCRIPTION:NIC Fine Arts will open Shadbolt and Raven studios to the public.
URL:https://comoxvalleyarts.com/community-calendar-event/art-event-open-studios/
LOCATION:North Island College Comox Valley Campus Shadbolt + Raven Studios\, 2300 Ryan Rd\, Courtenay\, BC\, V9N 8N6
CATEGORIES:Exhibitions
ATTACH;FMTTYPE=image/png:https://comoxvalleyarts.com/wp-content/uploads/2024/04/art-event-poster-DIGITAL-1.png
END:VEVENT
BEGIN:VEVENT
DTSTART;TZID=America/Vancouver:20240426T170000
DTEND;TZID=America/Vancouver:20240426T210000
DTSTAMP:20260422T215803
CREATED:20240419T192635Z
LAST-MODIFIED:20240419T192635Z
UID:10000070-1714150800-1714165200@comoxvalleyarts.com
SUMMARY:Art Event
DESCRIPTION:NIC students will be showcasing their 2024 Art Event at the Comox valley campus in the Shadbolt and Raven art studios.
URL:https://comoxvalleyarts.com/community-calendar-event/art-event/
LOCATION:North Island College Comox Valley Campus Shadbolt + Raven Studios\, 2300 Ryan Rd\, Courtenay\, BC\, V9N 8N6
CATEGORIES:Exhibitions
ATTACH;FMTTYPE=image/png:https://comoxvalleyarts.com/wp-content/uploads/2024/04/art-event-poster-DIGITAL.png
END:VEVENT
END:VCALENDAR