BEGIN:VCALENDAR
VERSION:2.0
PRODID:-//Comox Valley Arts - ECPv6.15.20//NONSGML v1.0//EN
CALSCALE:GREGORIAN
METHOD:PUBLISH
X-WR-CALNAME:Comox Valley Arts
X-ORIGINAL-URL:https://comoxvalleyarts.com
X-WR-CALDESC:Events for Comox Valley Arts
REFRESH-INTERVAL;VALUE=DURATION:PT1H
X-Robots-Tag:noindex
X-PUBLISHED-TTL:PT1H
BEGIN:VTIMEZONE
TZID:America/Vancouver
BEGIN:DAYLIGHT
TZOFFSETFROM:-0800
TZOFFSETTO:-0700
TZNAME:PDT
DTSTART:20230312T100000
END:DAYLIGHT
BEGIN:STANDARD
TZOFFSETFROM:-0700
TZOFFSETTO:-0800
TZNAME:PST
DTSTART:20231105T090000
END:STANDARD
BEGIN:DAYLIGHT
TZOFFSETFROM:-0800
TZOFFSETTO:-0700
TZNAME:PDT
DTSTART:20240310T100000
END:DAYLIGHT
BEGIN:STANDARD
TZOFFSETFROM:-0700
TZOFFSETTO:-0800
TZNAME:PST
DTSTART:20241103T090000
END:STANDARD
BEGIN:DAYLIGHT
TZOFFSETFROM:-0800
TZOFFSETTO:-0700
TZNAME:PDT
DTSTART:20250309T100000
END:DAYLIGHT
BEGIN:STANDARD
TZOFFSETFROM:-0700
TZOFFSETTO:-0800
TZNAME:PST
DTSTART:20251102T090000
END:STANDARD
END:VTIMEZONE
BEGIN:VEVENT
DTSTART;TZID=America/Vancouver:20240924T190000
DTEND;TZID=America/Vancouver:20240924T200000
DTSTAMP:20260422T123939
CREATED:20240906T162417Z
LAST-MODIFIED:20240906T162417Z
UID:10000592-1727204400-1727208000@comoxvalleyarts.com
SUMMARY:Live Lecture: It’s a Maritime War
DESCRIPTION:Tuesday\, September 24th @7:00 pm (6:30 pm Doors Open) \nEvent type: In-person  \nLocation: Rotary Gallery of the Courtenay and District Museum \nSpeaker: Catherine Gilbert \nAward winning author and historian Catherine Gilbert will be giving a PowerPoint presentation on the war at sea at the Courtenay and District Museum. This lecture will discuss the WW II fort at Yorke Island\, which was the focus of her first book\, Yorke Island and the Uncertain War. Many images used in this pictorial presentation come from private collections of veterans and families of veterans\, and so too\, do the stories that go with them. \nFor more information about this event please visit the Courtenay and District Museum website: https://www.courtenaymuseum.ca/upcoming-lecture/ \nTickets: $5 for Historical Society members; $6 for the general public. Advance tickets are recommended. Tickets can be purchased over the phone by calling 250-334-0686 ext 2.
URL:https://comoxvalleyarts.com/community-calendar-event/live-lecture-its-a-maritime-war/
LOCATION:the Courtenay and District Museum\, 207 4th St\, Courtenay\, BC\, COURTENAY\, BC\, V9N 1G7\, Canada
ATTACH;FMTTYPE=image/jpeg:https://comoxvalleyarts.com/wp-content/uploads/2024/09/NenamookFReserve.jpg
END:VEVENT
END:VCALENDAR