BEGIN:VCALENDAR
VERSION:2.0
PRODID:-//Comox Valley Arts - ECPv6.15.20//NONSGML v1.0//EN
CALSCALE:GREGORIAN
METHOD:PUBLISH
X-ORIGINAL-URL:https://comoxvalleyarts.com
X-WR-CALDESC:Events for Comox Valley Arts
REFRESH-INTERVAL;VALUE=DURATION:PT1H
X-Robots-Tag:noindex
X-PUBLISHED-TTL:PT1H
BEGIN:VTIMEZONE
TZID:America/Vancouver
BEGIN:DAYLIGHT
TZOFFSETFROM:-0800
TZOFFSETTO:-0700
TZNAME:PDT
DTSTART:20240310T100000
END:DAYLIGHT
BEGIN:STANDARD
TZOFFSETFROM:-0700
TZOFFSETTO:-0800
TZNAME:PST
DTSTART:20241103T090000
END:STANDARD
BEGIN:DAYLIGHT
TZOFFSETFROM:-0800
TZOFFSETTO:-0700
TZNAME:PDT
DTSTART:20250309T100000
END:DAYLIGHT
BEGIN:STANDARD
TZOFFSETFROM:-0700
TZOFFSETTO:-0800
TZNAME:PST
DTSTART:20251102T090000
END:STANDARD
BEGIN:DAYLIGHT
TZOFFSETFROM:-0800
TZOFFSETTO:-0700
TZNAME:PDT
DTSTART:20260308T100000
END:DAYLIGHT
BEGIN:STANDARD
TZOFFSETFROM:-0700
TZOFFSETTO:-0800
TZNAME:PST
DTSTART:20261101T090000
END:STANDARD
END:VTIMEZONE
BEGIN:VEVENT
DTSTART;TZID=America/Vancouver:20250826T193000
DTEND;TZID=America/Vancouver:20250826T203000
DTSTAMP:20260421T183634
CREATED:20250723T195937Z
LAST-MODIFIED:20250723T195937Z
UID:10000685-1756236600-1756240200@comoxvalleyarts.com
SUMMARY:Lecture: The Coast Salish Woolly Dog
DESCRIPTION:Doors open at 7:00 pm \nDue to her sold-out lecture in May\, Liz Hammond-Kaarremaa will return to give a repeat performance at the Courtenay and District Museum Rotary Gallery. If you missed the first lecture\, this is your chance to attend. \nThis illustrated presentation will give a brief overview of Mutton’s story (Mutton was the name of the only known woolly dog whose pelt is at the Smithsonian). Genetic research has been combined with Oral History from Elders\, weavers and Knowledge Keepers to reveal the Coast Salish Woolly Dogs’ cultural significance. \nTickets: $5 for Historical Society members; $6 for general public. Advance tickets recommended. Tickets can be purchased over the phone by calling 250-334-0686 ext 2.
URL:https://comoxvalleyarts.com/community-calendar-event/lecture-the-coast-salish-woolly-dog-3/
LOCATION:the Courtenay and District Museum\, 207 4th St\, Courtenay\, BC\, COURTENAY\, BC\, V9N 1G7\, Canada
ATTACH;FMTTYPE=image/jpeg:https://comoxvalleyarts.com/wp-content/uploads/2025/07/photo-lecture-may27-1-4.jpg
END:VEVENT
END:VCALENDAR