BEGIN:VCALENDAR
VERSION:2.0
PRODID:-//Comox Valley Arts - ECPv6.15.20//NONSGML v1.0//EN
CALSCALE:GREGORIAN
METHOD:PUBLISH
X-WR-CALNAME:Comox Valley Arts
X-ORIGINAL-URL:https://comoxvalleyarts.com
X-WR-CALDESC:Events for Comox Valley Arts
REFRESH-INTERVAL;VALUE=DURATION:PT1H
X-Robots-Tag:noindex
X-PUBLISHED-TTL:PT1H
BEGIN:VTIMEZONE
TZID:America/Vancouver
BEGIN:DAYLIGHT
TZOFFSETFROM:-0800
TZOFFSETTO:-0700
TZNAME:PDT
DTSTART:20230312T100000
END:DAYLIGHT
BEGIN:STANDARD
TZOFFSETFROM:-0700
TZOFFSETTO:-0800
TZNAME:PST
DTSTART:20231105T090000
END:STANDARD
BEGIN:DAYLIGHT
TZOFFSETFROM:-0800
TZOFFSETTO:-0700
TZNAME:PDT
DTSTART:20240310T100000
END:DAYLIGHT
BEGIN:STANDARD
TZOFFSETFROM:-0700
TZOFFSETTO:-0800
TZNAME:PST
DTSTART:20241103T090000
END:STANDARD
BEGIN:DAYLIGHT
TZOFFSETFROM:-0800
TZOFFSETTO:-0700
TZNAME:PDT
DTSTART:20250309T100000
END:DAYLIGHT
BEGIN:STANDARD
TZOFFSETFROM:-0700
TZOFFSETTO:-0800
TZNAME:PST
DTSTART:20251102T090000
END:STANDARD
END:VTIMEZONE
BEGIN:VEVENT
DTSTART;TZID=America/Vancouver:20240622T100000
DTEND;TZID=America/Vancouver:20240622T170000
DTSTAMP:20260421T124055
CREATED:20240617T171928Z
LAST-MODIFIED:20240617T172109Z
UID:10000513-1719050400-1719075600@comoxvalleyarts.com
SUMMARY:Downtown Comox Summer Fest 2024
DESCRIPTION:Event Location: We are shutting down Comox Avenue between Church St and Port Augusta!\n\n\n\n\nThe Comox Business in Action (BIA) kicks off the summer season with the Annual Summer Fest on Saturday\, June 22. This event is a community favourite that brings summer fun to the streets of downtown Comox.\n \n \n\nEvent highlights include: \n\nOver 50 vendors featuring artisans and merchants on Comox Ave\nLive Entertainment on the Main Stage\nLocal downtown businesses offering specials and featuresFamily-friendly activities including bounce-a-rama and face painting\nEvents happening at Comox Centre Mall\n\nEntertainment Schedule \n10-11:50 DJ Aimee12-12:45 – Cafe Ole1-3  DJ Micheal3-3:45 Focus Your Audio \nSponsors:Thank you to our generous sponsors that make Downtown Summerfest a success \nTitle Sponsor: Harbourview DentalTidal CafeCoastal Community Credit UnionYQQ Comox Valley AirportTown of ComoxBC TransitEagle 97.3Comox CentreExperience Comox Valley \nMore Info:Check out the EVENT ON FACEBOOK for MORE INFO \n\n\nVendor Applications \n\n\nVendor applications are SOLD OUT!  Please contact the organizers directly if you would like to be a part of Summer Fest: Haeley.events@gmail.com or cleotetraultrmt@gmail.com.
URL:https://comoxvalleyarts.com/community-calendar-event/downtown-comox-summer-fest-2024/
CATEGORIES:Community Event
ATTACH;FMTTYPE=image/png:https://comoxvalleyarts.com/wp-content/uploads/2024/06/summer-fest-2024-square.f4d7c53f1f14d0990955a9693e63b9f2.png
END:VEVENT
END:VCALENDAR