BEGIN:VCALENDAR
VERSION:2.0
PRODID:-//Comox Valley Arts - ECPv6.15.20//NONSGML v1.0//EN
CALSCALE:GREGORIAN
METHOD:PUBLISH
X-WR-CALNAME:Comox Valley Arts
X-ORIGINAL-URL:https://comoxvalleyarts.com
X-WR-CALDESC:Events for Comox Valley Arts
REFRESH-INTERVAL;VALUE=DURATION:PT1H
X-Robots-Tag:noindex
X-PUBLISHED-TTL:PT1H
BEGIN:VTIMEZONE
TZID:America/Vancouver
BEGIN:DAYLIGHT
TZOFFSETFROM:-0800
TZOFFSETTO:-0700
TZNAME:PDT
DTSTART:20230312T100000
END:DAYLIGHT
BEGIN:STANDARD
TZOFFSETFROM:-0700
TZOFFSETTO:-0800
TZNAME:PST
DTSTART:20231105T090000
END:STANDARD
BEGIN:DAYLIGHT
TZOFFSETFROM:-0800
TZOFFSETTO:-0700
TZNAME:PDT
DTSTART:20240310T100000
END:DAYLIGHT
BEGIN:STANDARD
TZOFFSETFROM:-0700
TZOFFSETTO:-0800
TZNAME:PST
DTSTART:20241103T090000
END:STANDARD
BEGIN:DAYLIGHT
TZOFFSETFROM:-0800
TZOFFSETTO:-0700
TZNAME:PDT
DTSTART:20250309T100000
END:DAYLIGHT
BEGIN:STANDARD
TZOFFSETFROM:-0700
TZOFFSETTO:-0800
TZNAME:PST
DTSTART:20251102T090000
END:STANDARD
END:VTIMEZONE
BEGIN:VEVENT
DTSTART;TZID=America/Vancouver:20240927T170000
DTEND;TZID=America/Vancouver:20241026T170000
DTSTAMP:20260422T155959
CREATED:20240918T012437Z
LAST-MODIFIED:20240918T012437Z
UID:10000599-1727456400-1729962000@comoxvalleyarts.com
SUMMARY:Spinning and Unravelling: Art from the Wachiay Residency
DESCRIPTION:During this year’s Wachiay Residency\, six community-based artists from around B.C. spent a week immersed in the screen print medium. Their work will be on display at Comox Valley Art Gallery from September 27-October 26. \nThe opening of this exhibit coincides with Pulse in the Plaza. Several of the artists will be in attendance. \nLuke Ramsey from the Sunshine Coast and Rachelle Antoine from K’omoks First Nation were the first artists in the studio. They were followed by Amanda Hugon and Facundo Gastiazoro who are part of Raven Tacuara mural collective in northern B.C. The final artist pair\, Shawna Kiesman and Danika Saunders\, are longtime friends who met at Freda Diesing School of Northwest Coast Art.
URL:https://comoxvalleyarts.com/community-calendar-event/spinning-and-unravelling-art-from-the-wachiay-residency/
LOCATION:Comox Valley Art Gallery\, 580 Duncan Avenue\, Courtenay\, BC
CATEGORIES:Exhibitions
ATTACH;FMTTYPE=image/jpeg:https://comoxvalleyarts.com/wp-content/uploads/2024/09/Exhibit-Poster.jpg
ORGANIZER;CN="Wachiay Studio":MAILTO:studio@wachiay.org
END:VEVENT
END:VCALENDAR