BEGIN:VCALENDAR
VERSION:2.0
PRODID:-//Comox Valley Arts - ECPv6.15.20//NONSGML v1.0//EN
CALSCALE:GREGORIAN
METHOD:PUBLISH
X-ORIGINAL-URL:https://comoxvalleyarts.com
X-WR-CALDESC:Events for Comox Valley Arts
REFRESH-INTERVAL;VALUE=DURATION:PT1H
X-Robots-Tag:noindex
X-PUBLISHED-TTL:PT1H
BEGIN:VTIMEZONE
TZID:America/Vancouver
BEGIN:DAYLIGHT
TZOFFSETFROM:-0800
TZOFFSETTO:-0700
TZNAME:PDT
DTSTART:20250309T100000
END:DAYLIGHT
BEGIN:STANDARD
TZOFFSETFROM:-0700
TZOFFSETTO:-0800
TZNAME:PST
DTSTART:20251102T090000
END:STANDARD
BEGIN:DAYLIGHT
TZOFFSETFROM:-0800
TZOFFSETTO:-0700
TZNAME:PDT
DTSTART:20260308T100000
END:DAYLIGHT
BEGIN:STANDARD
TZOFFSETFROM:-0700
TZOFFSETTO:-0800
TZNAME:PST
DTSTART:20261101T090000
END:STANDARD
BEGIN:DAYLIGHT
TZOFFSETFROM:-0800
TZOFFSETTO:-0700
TZNAME:PDT
DTSTART:20270314T100000
END:DAYLIGHT
BEGIN:STANDARD
TZOFFSETFROM:-0700
TZOFFSETTO:-0800
TZNAME:PST
DTSTART:20271107T090000
END:STANDARD
END:VTIMEZONE
BEGIN:VEVENT
DTSTART;TZID=America/Vancouver:20260210T120000
DTEND;TZID=America/Vancouver:20260210T130000
DTSTAMP:20260421T091347
CREATED:20260114T214841Z
LAST-MODIFIED:20260114T215723Z
UID:10000812-1770724800-1770728400@comoxvalleyarts.com
SUMMARY:CV/Arts Member Meeting
DESCRIPTION:As a way of reviving our membership program\, CV/Arts will be hosting quarterly membership meetings with the goal of providing more benefits and opportunities for members. These gatherings will offer members a chance to connect directly with one another and with the CV/Arts team\, be the first to hear about upcoming programs and opportunities\, and receive organizational updates along with broader arts-sector news. These meetings will be open to CV/Arts members only. \n\n\n\nOur first meeting will take place on February 10th from 12:00pm – 1:00pm at 580 Duncan Avenue. During this time the CV/Arts team will share information about program planning for 2026. \n\n\n\nIf you haven’t renewed your membership yet\, now is a great time to do so. We’ve recently introduced a sliding-scale membership starting at just $10\, helping lower barriers to participation and making it easier for everyone to stay involved. We’re looking forward to building a stronger\, more connected arts community together and hope you’ll join us. \n\n\n\nRSVP to the meeting HERE.
URL:https://comoxvalleyarts.com/community-calendar-event/cv-arts-member-meeting/
LOCATION:Comox Valley Art Gallery\, Upstairs\, 580 Duncan Avenue\, Courtenay\, British Columbia\, V9N 3M7
ATTACH;FMTTYPE=image/png:https://comoxvalleyarts.com/wp-content/uploads/2026/01/Member-Meetings-1.png
ORGANIZER;CN="Comox Valley Arts":MAILTO:info@comoxvalleyarts.com
END:VEVENT
END:VCALENDAR