BEGIN:VCALENDAR
VERSION:2.0
PRODID:-//Comox Valley Arts - ECPv6.15.20//NONSGML v1.0//EN
CALSCALE:GREGORIAN
METHOD:PUBLISH
X-ORIGINAL-URL:https://comoxvalleyarts.com
X-WR-CALDESC:Events for Comox Valley Arts
REFRESH-INTERVAL;VALUE=DURATION:PT1H
X-Robots-Tag:noindex
X-PUBLISHED-TTL:PT1H
BEGIN:VTIMEZONE
TZID:America/Vancouver
BEGIN:DAYLIGHT
TZOFFSETFROM:-0800
TZOFFSETTO:-0700
TZNAME:PDT
DTSTART:20230312T100000
END:DAYLIGHT
BEGIN:STANDARD
TZOFFSETFROM:-0700
TZOFFSETTO:-0800
TZNAME:PST
DTSTART:20231105T090000
END:STANDARD
BEGIN:DAYLIGHT
TZOFFSETFROM:-0800
TZOFFSETTO:-0700
TZNAME:PDT
DTSTART:20240310T100000
END:DAYLIGHT
BEGIN:STANDARD
TZOFFSETFROM:-0700
TZOFFSETTO:-0800
TZNAME:PST
DTSTART:20241103T090000
END:STANDARD
BEGIN:DAYLIGHT
TZOFFSETFROM:-0800
TZOFFSETTO:-0700
TZNAME:PDT
DTSTART:20250309T100000
END:DAYLIGHT
BEGIN:STANDARD
TZOFFSETFROM:-0700
TZOFFSETTO:-0800
TZNAME:PST
DTSTART:20251102T090000
END:STANDARD
END:VTIMEZONE
BEGIN:VEVENT
DTSTART;TZID=America/Vancouver:20240720T090000
DTEND;TZID=America/Vancouver:20240720T170000
DTSTAMP:20260421T181440
CREATED:20240627T204045Z
LAST-MODIFIED:20240627T204045Z
UID:10000521-1721466000-1721494800@comoxvalleyarts.com
SUMMARY:Market Day 2024
DESCRIPTION:Market Day 2024 in Downtown Courtenay is taking place 9:00 am -5:00 pm July 20th\, 2024! \nCome to the heart of the Comox Valley and take in all the fun Market Day provides. Portions of 5th Street\, England Ave\, and Duncan Ave will be closed to traffic creating a pedestrian-only zone filled with vendors of all types\, activities\, music\, and more. \nStages will be set up on Duncan Avenue near the Comox Valley Art Gallery as well as England Avenue near the intersection of England Ave and 5th. Live music and performers will be there for your entertainment as you browse the wares of Downtown Courtenay businesses and local vendors from all over Comox Valley. \nThis family-friendly event is a hit year after year and we look forward to elevating the experience yet again in 2024. \nMark your calendars now as Market Day is fast approaching.
URL:https://comoxvalleyarts.com/community-calendar-event/market-day-2024/
LOCATION:Downtown Courtenay
ATTACH;FMTTYPE=image/jpeg:https://comoxvalleyarts.com/wp-content/uploads/2024/06/Market-Day-Flyer.jpeg
ORGANIZER;CN="Downtown Courtenay Business Improvement Association":MAILTO:info@downtowncourtenay.com
END:VEVENT
END:VCALENDAR