BEGIN:VCALENDAR
VERSION:2.0
PRODID:-//Comox Valley Arts - ECPv6.15.20//NONSGML v1.0//EN
CALSCALE:GREGORIAN
METHOD:PUBLISH
X-ORIGINAL-URL:https://comoxvalleyarts.com
X-WR-CALDESC:Events for Comox Valley Arts
REFRESH-INTERVAL;VALUE=DURATION:PT1H
X-Robots-Tag:noindex
X-PUBLISHED-TTL:PT1H
BEGIN:VTIMEZONE
TZID:America/Vancouver
BEGIN:DAYLIGHT
TZOFFSETFROM:-0800
TZOFFSETTO:-0700
TZNAME:PDT
DTSTART:20230312T100000
END:DAYLIGHT
BEGIN:STANDARD
TZOFFSETFROM:-0700
TZOFFSETTO:-0800
TZNAME:PST
DTSTART:20231105T090000
END:STANDARD
BEGIN:DAYLIGHT
TZOFFSETFROM:-0800
TZOFFSETTO:-0700
TZNAME:PDT
DTSTART:20240310T100000
END:DAYLIGHT
BEGIN:STANDARD
TZOFFSETFROM:-0700
TZOFFSETTO:-0800
TZNAME:PST
DTSTART:20241103T090000
END:STANDARD
BEGIN:DAYLIGHT
TZOFFSETFROM:-0800
TZOFFSETTO:-0700
TZNAME:PDT
DTSTART:20250309T100000
END:DAYLIGHT
BEGIN:STANDARD
TZOFFSETFROM:-0700
TZOFFSETTO:-0800
TZNAME:PST
DTSTART:20251102T090000
END:STANDARD
END:VTIMEZONE
BEGIN:VEVENT
DTSTART;TZID=America/Vancouver:20240918T080000
DTEND;TZID=America/Vancouver:20240918T170000
DTSTAMP:20260421T195943
CREATED:20240909T213048Z
LAST-MODIFIED:20240909T213048Z
UID:10000593-1726646400-1726678800@comoxvalleyarts.com
SUMMARY:CVAG Film Series – Autumn 2024
DESCRIPTION:The Comox Valley Art Gallery Film Series is a selection of titles from the Toronto International Film Festival Film Circuit. We normally present two Film Series each year – one in the winter/spring and one in the fall. \nCVAG staff and volunteers organize the film series\, and proceeds go towards our artistic programming. \nTICKETS + SEASON PASSES \nTickets are $17 for CVAG Members\, $18 for Non-Members. \nSeason passes for all 10 films are $153 for CVAG Members\, $162 for Non-Members. To become a member\, please call or visit the gallery. \nTickets are available for purchase online at cvag.tickit.ca. \nNOTE: Tickets are only available at Landmark Cinemas if the film has not sold out; to avoid disappointment purchase tickets in advance. All seating at Landmark Cinemas is first come\, first served; please do not save seats. There is no seating after 5PM. NO REFUNDS. \nSeptember 18 2024 / 5:00pm – November 20 2024 / 5:00pm \n\n\n\nCVAG FILM SERIES – AUTUMN 2024 SCREENINGS \nFilms screen at 5PM on Wednesdays at Landmark Cinemas — 2655 Cliffe Ave.\, Courtenay. \nSeptember 18 — Perfect Days\nSeptember 25 — The Queen of My Dreams\nOctober 2 — Evil Does Not Exist\nOctober 9 — Café Daughter\nOctober 16 — The Old Oak\nOctober 23 — We Grown Now\nOctober 30 — Sweetland\nNovember 6 — Fancy Dance\nNovember 13 — Sing Sing\nNovember 20 — Thelma
URL:https://comoxvalleyarts.com/community-calendar-event/cvag-film-series-autumn-2024/
LOCATION:Landmark Cinemas\, 2655 Cliffe Ave\, Courtenay\, BC\, Canada
ATTACH;FMTTYPE=image/jpeg:https://comoxvalleyarts.com/wp-content/uploads/2024/09/CVAG-FilmSeries_AllFall2024Films-scaled.d3c6dd6252bb17a38df0e16830d109c6.jpg
END:VEVENT
END:VCALENDAR