BEGIN:VCALENDAR
VERSION:2.0
PRODID:-//Comox Valley Arts - ECPv6.15.20//NONSGML v1.0//EN
CALSCALE:GREGORIAN
METHOD:PUBLISH
X-ORIGINAL-URL:https://comoxvalleyarts.com
X-WR-CALDESC:Events for Comox Valley Arts
REFRESH-INTERVAL;VALUE=DURATION:PT1H
X-Robots-Tag:noindex
X-PUBLISHED-TTL:PT1H
BEGIN:VTIMEZONE
TZID:America/Vancouver
BEGIN:DAYLIGHT
TZOFFSETFROM:-0800
TZOFFSETTO:-0700
TZNAME:PDT
DTSTART:20230312T100000
END:DAYLIGHT
BEGIN:STANDARD
TZOFFSETFROM:-0700
TZOFFSETTO:-0800
TZNAME:PST
DTSTART:20231105T090000
END:STANDARD
BEGIN:DAYLIGHT
TZOFFSETFROM:-0800
TZOFFSETTO:-0700
TZNAME:PDT
DTSTART:20240310T100000
END:DAYLIGHT
BEGIN:STANDARD
TZOFFSETFROM:-0700
TZOFFSETTO:-0800
TZNAME:PST
DTSTART:20241103T090000
END:STANDARD
BEGIN:DAYLIGHT
TZOFFSETFROM:-0800
TZOFFSETTO:-0700
TZNAME:PDT
DTSTART:20250309T100000
END:DAYLIGHT
BEGIN:STANDARD
TZOFFSETFROM:-0700
TZOFFSETTO:-0800
TZNAME:PST
DTSTART:20251102T090000
END:STANDARD
END:VTIMEZONE
BEGIN:VEVENT
DTSTART;TZID=America/Vancouver:20240824T140000
DTEND;TZID=America/Vancouver:20240824T203000
DTSTAMP:20260421T214126
CREATED:20240730T004927Z
LAST-MODIFIED:20240730T004927Z
UID:10000563-1724508000-1724531400@comoxvalleyarts.com
SUMMARY:CASCADIAN ZEN
DESCRIPTION:Watershed Press\, part of Cascadia Poetics Lab\, is hosting a weekend to celebrate the  launch of Cascadian Zen Volume One in Cumberland\, BC. on the 24th and 25th of August 2024. There will be talks by an Indigenous elder\, poets\, and philosophers\, a poetry bash\, and a poetry workshop. \nAug 24\, 2 pm: poetry workshop by Seattle poet Paul Nelson on spontaneous composition\, sliding scale $25 to $75. \nAug 24\, 7 pm: “What is Cascadian Zen?” a talk by the editors of Cascadian Zen (Wirth\, Nelson and MacWilliam) followed by Cascadian Zen anthology contributor\nreadings and drinks at the Waverley Pub. \nSuggested donation $15.00 \nStay tuned for more information about the poetry programs for Sunday\, August 25th. \n\n\n\nIn the meantime\, folks can email Adelia at adelia.macwilliam@gmail.com if they have any questions or want to register for Paul Nelson’s workshop on Saturday\, August 24th. 
URL:https://comoxvalleyarts.com/community-calendar-event/cascadian-zen/
LOCATION:The Abbey Studio\, 2689 Penrith Ave.\, Cumberland\, BC\, V0R 1S0\, Canada
ATTACH;FMTTYPE=image/jpeg:https://comoxvalleyarts.com/wp-content/uploads/2024/07/Cascadian-ZEN.jpg
END:VEVENT
END:VCALENDAR