BEGIN:VCALENDAR
VERSION:2.0
PRODID:-//Comox Valley Arts - ECPv6.15.20//NONSGML v1.0//EN
CALSCALE:GREGORIAN
METHOD:PUBLISH
X-WR-CALNAME:Comox Valley Arts
X-ORIGINAL-URL:https://comoxvalleyarts.com
X-WR-CALDESC:Events for Comox Valley Arts
REFRESH-INTERVAL;VALUE=DURATION:PT1H
X-Robots-Tag:noindex
X-PUBLISHED-TTL:PT1H
BEGIN:VTIMEZONE
TZID:America/Vancouver
BEGIN:DAYLIGHT
TZOFFSETFROM:-0800
TZOFFSETTO:-0700
TZNAME:PDT
DTSTART:20230312T100000
END:DAYLIGHT
BEGIN:STANDARD
TZOFFSETFROM:-0700
TZOFFSETTO:-0800
TZNAME:PST
DTSTART:20231105T090000
END:STANDARD
BEGIN:DAYLIGHT
TZOFFSETFROM:-0800
TZOFFSETTO:-0700
TZNAME:PDT
DTSTART:20240310T100000
END:DAYLIGHT
BEGIN:STANDARD
TZOFFSETFROM:-0700
TZOFFSETTO:-0800
TZNAME:PST
DTSTART:20241103T090000
END:STANDARD
BEGIN:DAYLIGHT
TZOFFSETFROM:-0800
TZOFFSETTO:-0700
TZNAME:PDT
DTSTART:20250309T100000
END:DAYLIGHT
BEGIN:STANDARD
TZOFFSETFROM:-0700
TZOFFSETTO:-0800
TZNAME:PST
DTSTART:20251102T090000
END:STANDARD
END:VTIMEZONE
BEGIN:VEVENT
DTSTART;TZID=America/Vancouver:20240814T190000
DTEND;TZID=America/Vancouver:20240814T220000
DTSTAMP:20260421T181442
CREATED:20240801T195821Z
LAST-MODIFIED:20240801T195821Z
UID:10000583-1723662000-1723672800@comoxvalleyarts.com
SUMMARY:Beau Nectar +  L.J.P.
DESCRIPTION:Beau Nectar (formerly Marie-Clo x éemi) is a collaboration between two bilingual singer-songwriters separated by kilometers of forests\, rivers\, mountains and prairies. Marie-Clo\, Franco-Ontarian\, and éemi\, Fransaskoise deliver intimate\, vibrant and surreal electronic pop with eco-feminist lyrics that spark their fans’ empathy towards nature. \nHaving recently signed with Indica Records\, the duo released their first album Two Lips on June 2 2023.
URL:https://comoxvalleyarts.com/community-calendar-event/beau-nectar-l-j-p/
LOCATION:The Green Room\, 3247\, 2nd Street\, Cumberland\, BC\, V0R 1S0\, Canada
ATTACH;FMTTYPE=image/jpeg:https://comoxvalleyarts.com/wp-content/uploads/2024/08/cropped-dscf8531-scaled.jpg
END:VEVENT
END:VCALENDAR